Index of /checkResults/release/bioc-LATEST/BUScorrect/raw-results
Name
Last modified
Size
Description
Parent Directory
-
info.dcf
23-Mar-2023 00:05
275
kjohnson/
12-Jul-2022 00:06
-
lconway/
23-Mar-2023 00:05
-
nebbiolo2/
23-Mar-2023 00:04
-
palomino4/
23-Mar-2023 00:05
-