Index of /checkResults/release/bioc-LATEST/BUS/raw-results/riesling1

[ICO]NameLast modifiedSizeDescription

[DIR]Parent Directory  -  
[TXT]buildbin-out.txt19-Mar-2022 00:07 2.1K 
[   ]buildbin-summary.dcf19-Mar-2022 00:07 492  
[TXT]buildsrc-out.txt19-Mar-2022 00:07 911  
[   ]buildsrc-summary.dcf19-Mar-2022 00:07 436  
[TXT]checksrc-out.txt19-Mar-2022 00:07 6.1K 
[   ]checksrc-summary.dcf19-Mar-2022 00:07 430  
[TXT]install-out.txt19-Mar-2022 00:07 2.2K 
[   ]install-summary.dcf19-Mar-2022 00:07 260