Name | Last modified | Size | Description | |
---|---|---|---|---|
Parent Directory | - | |||
buildbin-out.txt | 30-Mar-2024 00:36 | 2.3K | ||
buildbin-summary.dcf | 30-Mar-2024 00:36 | 490 | ||
buildsrc-out.txt | 30-Mar-2024 00:36 | 911 | ||
buildsrc-summary.dcf | 30-Mar-2024 00:36 | 435 | ||
checksrc-out.txt | 30-Mar-2024 00:36 | 6.2K | ||
checksrc-summary.dcf | 30-Mar-2024 00:36 | 430 | ||
install-out.txt | 30-Mar-2024 00:36 | 2.2K | ||
install-summary.dcf | 30-Mar-2024 00:36 | 259 | ||