Index of /checkResults/release/bioc-LATEST/BUS/raw-results/palomino3

[ICO]NameLast modifiedSizeDescription

[DIR]Parent Directory  -  
[TXT]buildbin-out.txt02-Jul-2022 01:06 1.6K 
[   ]buildbin-summary.dcf02-Jul-2022 01:06 491  
[TXT]buildsrc-out.txt02-Jul-2022 01:06 911  
[   ]buildsrc-summary.dcf02-Jul-2022 01:06 435  
[TXT]checksrc-out.txt02-Jul-2022 01:06 6.0K 
[   ]checksrc-summary.dcf02-Jul-2022 01:06 430  
[TXT]install-out.txt02-Jul-2022 01:06 1.4K 
[   ]install-summary.dcf02-Jul-2022 01:06 260