Index of /checkResults/release/bioc-LATEST/BUS/raw-results/nebbiolo1

[ICO]NameLast modifiedSizeDescription

[DIR]Parent Directory  -  
[TXT]buildsrc-out.txt02-Jul-2022 01:05 883  
[   ]buildsrc-summary.dcf02-Jul-2022 01:05 404  
[TXT]checksrc-out.txt02-Jul-2022 01:05 5.5K 
[   ]checksrc-summary.dcf02-Jul-2022 01:05 407  
[TXT]install-out.txt02-Jul-2022 01:05 1.3K 
[   ]install-summary.dcf02-Jul-2022 01:05 250