Index of /checkResults/release/bioc-LATEST/BUMHMM/raw-results/lconway

[ICO]NameLast modifiedSizeDescription

[DIR]Parent Directory  -  
[   ]install-summary.dcf26-May-2024 00:35 267  
[TXT]install-out.txt26-May-2024 00:35 1.0K 
[   ]checksrc-summary.dcf26-May-2024 00:35 440  
[TXT]checksrc-out.txt26-May-2024 00:35 3.5K 
[   ]buildsrc-summary.dcf26-May-2024 00:35 424  
[TXT]buildsrc-out.txt26-May-2024 00:35 1.0K 
[   ]buildbin-summary.dcf26-May-2024 00:35 524  
[TXT]buildbin-out.txt26-May-2024 00:35 1.2K