Name | Last modified | Size | Description | |
---|---|---|---|---|
Parent Directory | - | |||
buildbin-out.txt | 27-Jul-2024 06:38 | 1.1K | ||
buildbin-summary.dcf | 27-Jul-2024 06:38 | 497 | ||
buildsrc-out.txt | 27-Jul-2024 06:38 | 884 | ||
buildsrc-summary.dcf | 27-Jul-2024 06:38 | 441 | ||
checksrc-out.txt | 27-Jul-2024 06:38 | 4.0K | ||
checksrc-summary.dcf | 27-Jul-2024 06:38 | 435 | ||
install-out.txt | 27-Jul-2024 06:38 | 962 | ||
install-summary.dcf | 27-Jul-2024 06:38 | 262 | ||