Index of /checkResults/release/bioc-LATEST/BEAT/raw-results/palomino4

[ICO]NameLast modifiedSizeDescription

[DIR]Parent Directory  -  
[TXT]buildbin-out.txt31-Jan-2023 01:06 1.1K 
[   ]buildbin-summary.dcf31-Jan-2023 01:06 497  
[TXT]buildsrc-out.txt31-Jan-2023 01:06 884  
[   ]buildsrc-summary.dcf31-Jan-2023 01:06 441  
[TXT]checksrc-out.txt31-Jan-2023 01:06 3.9K 
[   ]checksrc-summary.dcf31-Jan-2023 01:06 435  
[TXT]install-out.txt31-Jan-2023 01:06 962  
[   ]install-summary.dcf31-Jan-2023 01:06 262