Index of /checkResults/release/bioc-LATEST/BEAT/raw-results/nebbiolo2

[ICO]NameLast modifiedSizeDescription

[DIR]Parent Directory  -  
[TXT]buildsrc-out.txt29-Jan-2023 01:05 857  
[   ]buildsrc-summary.dcf29-Jan-2023 01:05 408  
[TXT]checksrc-out.txt29-Jan-2023 01:05 3.9K 
[   ]checksrc-summary.dcf29-Jan-2023 01:05 397  
[TXT]install-out.txt29-Jan-2023 01:05 946  
[   ]install-summary.dcf29-Jan-2023 01:05 253