Index of /checkResults/release/bioc-LATEST/BEAT/raw-results/kjohnson

[ICO]NameLast modifiedSizeDescription

[DIR]Parent Directory  -  
[TXT]buildsrc-out.txt12-Jul-2022 00:06 876  
[   ]buildsrc-summary.dcf12-Jul-2022 00:06 336  
[TXT]install-out.txt12-Jul-2022 00:06 685  
[   ]install-summary.dcf12-Jul-2022 00:06 265