Back to Multiple platform build/check report for BioC 3.18:   simplified   long
A[B]CDEFGHIJKLMNOPQRSTUVWXYZ

This page was generated on 2024-03-29 11:35:47 -0400 (Fri, 29 Mar 2024).

HostnameOSArch (*)R versionInstalled pkgs
nebbiolo2Linux (Ubuntu 22.04.3 LTS)x86_644.3.3 (2024-02-29) -- "Angel Food Cake" 4669
palomino4Windows Server 2022 Datacenterx644.3.3 (2024-02-29 ucrt) -- "Angel Food Cake" 4404
merida1macOS 12.7.1 Montereyx86_644.3.3 (2024-02-29) -- "Angel Food Cake" 4427
Click on any hostname to see more info about the system (e.g. compilers)      (*) as reported by 'uname -p', except on Windows and Mac OS X

Package 150/2266HostnameOS / ArchINSTALLBUILDCHECKBUILD BIN
BEAT 1.40.0  (landing page)
Kemal Akman
Snapshot Date: 2024-03-27 14:05:05 -0400 (Wed, 27 Mar 2024)
git_url: https://git.bioconductor.org/packages/BEAT
git_branch: RELEASE_3_18
git_last_commit: 27254d0
git_last_commit_date: 2023-10-24 09:57:14 -0400 (Tue, 24 Oct 2023)
nebbiolo2Linux (Ubuntu 22.04.3 LTS) / x86_64  OK    OK    OK  UNNEEDED, same version is already published
palomino4Windows Server 2022 Datacenter / x64  OK    OK    OK    OK  UNNEEDED, same version is already published
merida1macOS 12.7.1 Monterey / x86_64  OK    OK    OK    OK  UNNEEDED, same version is already published
kjohnson1macOS 13.6.1 Ventura / arm64see weekly results here

BUILD results for BEAT on nebbiolo2


To the developers/maintainers of the BEAT package:
- Allow up to 24 hours (and sometimes 48 hours) for your latest push to git@git.bioconductor.org:packages/BEAT.git to reflect on this report. See Troubleshooting Build Report for more information.
- Use the following Renviron settings to reproduce errors and warnings.
- If 'R CMD check' started to fail recently on the Linux builder(s) over a missing dependency, add the missing dependency to 'Suggests:' in your DESCRIPTION file. See Renviron.bioc for more information.

raw results


Summary

Package: BEAT
Version: 1.40.0
Command: /home/biocbuild/bbs-3.18-bioc/R/bin/R CMD build --keep-empty-dirs --no-resave-data BEAT
StartedAt: 2024-03-27 16:08:19 -0400 (Wed, 27 Mar 2024)
EndedAt: 2024-03-27 16:09:36 -0400 (Wed, 27 Mar 2024)
EllapsedTime: 76.3 seconds
RetCode: 0
Status:   OK  
PackageFile: BEAT_1.40.0.tar.gz
PackageFileSize: 3.135 MiB

Command output

##############################################################################
##############################################################################
###
### Running command:
###
###   /home/biocbuild/bbs-3.18-bioc/R/bin/R CMD build --keep-empty-dirs --no-resave-data BEAT
###
##############################################################################
##############################################################################


* checking for file ‘BEAT/DESCRIPTION’ ... OK
* preparing ‘BEAT’:
* checking DESCRIPTION meta-information ... OK
* installing the package to build vignettes
* creating vignettes ... OK
* checking for LF line-endings in source and make files and shell scripts
* checking for empty or unneeded directories
* looking to see if a ‘data/datalist’ file should be added
* building ‘BEAT_1.40.0.tar.gz’