Back to Multiple platform build/check report for BioC 3.16:   simplified   long
A[B]CDEFGHIJKLMNOPQRSTUVWXYZ

This page was generated on 2023-03-24 11:05:50 -0400 (Fri, 24 Mar 2023).

HostnameOSArch (*)R versionInstalled pkgs
nebbiolo2Linux (Ubuntu 20.04.5 LTS)x86_644.2.3 (2023-03-15) -- "Shortstop Beagle" 4286
palomino4Windows Server 2022 Datacenterx644.2.3 (2023-03-15 ucrt) -- "Shortstop Beagle" 4276
lconwaymacOS 12.5.1 Montereyx86_644.2.3 (2023-03-15) -- "Shortstop Beagle" 4303
Click on any hostname to see more info about the system (e.g. compilers)      (*) as reported by 'uname -p', except on Windows and Mac OS X

BUILD BIN results for BEARscc on palomino4


To the developers/maintainers of the BEARscc package:
- Please allow up to 24 hours (and sometimes 48 hours) for your latest push to git@git.bioconductor.org:packages/BEARscc.git to
reflect on this report. See How and When does the builder pull? When will my changes propagate? for more information.
- Make sure to use the following settings in order to reproduce any error or warning you see on this page.

raw results

Package 137/2183HostnameOS / ArchINSTALLBUILDCHECKBUILD BIN
BEARscc 1.18.0  (landing page)
Benjamin Schuster-Boeckler
Snapshot Date: 2023-03-22 14:00:04 -0400 (Wed, 22 Mar 2023)
git_url: https://git.bioconductor.org/packages/BEARscc
git_branch: RELEASE_3_16
git_last_commit: 12407a6
git_last_commit_date: 2022-11-01 11:17:04 -0400 (Tue, 01 Nov 2022)
nebbiolo2Linux (Ubuntu 20.04.5 LTS) / x86_64  OK    OK    OK  UNNEEDED, same version is already published
palomino4Windows Server 2022 Datacenter / x64  OK    OK    OK    OK  UNNEEDED, same version is already published
lconwaymacOS 12.5.1 Monterey / x86_64  OK    OK    OK    OK  UNNEEDED, same version is already published

Summary

Package: BEARscc
Version: 1.18.0
Command: rm -rf BEARscc.buildbin-libdir && mkdir BEARscc.buildbin-libdir && F:\biocbuild\bbs-3.16-bioc\R\bin\R.exe CMD INSTALL --build --library=BEARscc.buildbin-libdir BEARscc_1.18.0.tar.gz
StartedAt: 2023-03-23 07:46:45 -0400 (Thu, 23 Mar 2023)
EndedAt: 2023-03-23 07:47:21 -0400 (Thu, 23 Mar 2023)
EllapsedTime: 36.4 seconds
RetCode: 0
Status:   OK  
PackageFile: BEARscc_1.18.0.zip
PackageFileSize: 688.6 KiB

Command output

##############################################################################
##############################################################################
###
### Running command:
###
###   rm -rf BEARscc.buildbin-libdir && mkdir BEARscc.buildbin-libdir && F:\biocbuild\bbs-3.16-bioc\R\bin\R.exe CMD INSTALL --build --library=BEARscc.buildbin-libdir BEARscc_1.18.0.tar.gz
###
##############################################################################
##############################################################################


* installing *source* package 'BEARscc' ...
** using staged installation
** R
** data
** inst
** byte-compile and prepare package for lazy loading
** help
*** installing help indices
** building package indices
** installing vignettes
** testing if installed package can be loaded from temporary location
** testing if installed package can be loaded from final location
** testing if installed package keeps a record of temporary installation path
* MD5 sums
packaged installation of 'BEARscc' as BEARscc_1.18.0.zip
* DONE (BEARscc)