Name | Last modified | Size | Description | |
---|---|---|---|---|
Parent Directory | - | |||
buildbin-out.txt | 05-Mar-2024 01:38 | 6.8K | ||
buildbin-summary.dcf | 05-Mar-2024 01:38 | 560 | ||
buildsrc-out.txt | 05-Mar-2024 01:38 | 866 | ||
buildsrc-summary.dcf | 05-Mar-2024 01:38 | 443 | ||
checksrc-out.txt | 05-Mar-2024 01:38 | 4.4K | ||
checksrc-summary.dcf | 05-Mar-2024 01:38 | 470 | ||
install-out.txt | 05-Mar-2024 01:38 | 3.0K | ||
install-summary.dcf | 05-Mar-2024 01:38 | 279 | ||