Back to Multiple platform build/check report for BioC 3.16:   simplified   long
A[B]CDEFGHIJKLMNOPQRSTUVWXYZ

This page was generated on 2023-03-29 11:05:25 -0400 (Wed, 29 Mar 2023).

HostnameOSArch (*)R versionInstalled pkgs
nebbiolo2Linux (Ubuntu 20.04.5 LTS)x86_644.2.3 (2023-03-15) -- "Shortstop Beagle" 4482
palomino4Windows Server 2022 Datacenterx644.2.3 (2023-03-15 ucrt) -- "Shortstop Beagle" 4278
lconwaymacOS 12.5.1 Montereyx86_644.2.3 (2023-03-15) -- "Shortstop Beagle" 4306
Click on any hostname to see more info about the system (e.g. compilers)      (*) as reported by 'uname -p', except on Windows and Mac OS X

INSTALL results for BDMMAcorrect on palomino4


To the developers/maintainers of the BDMMAcorrect package:
- Please allow up to 24 hours (and sometimes 48 hours) for your latest push to git@git.bioconductor.org:packages/BDMMAcorrect.git to
reflect on this report. See How and When does the builder pull? When will my changes propagate? for more information.
- Make sure to use the following settings in order to reproduce any error or warning you see on this page.

raw results

Package 132/2183HostnameOS / ArchINSTALLBUILDCHECKBUILD BIN
BDMMAcorrect 1.16.2  (landing page)
ZHENWEI DAI
Snapshot Date: 2023-03-27 14:00:04 -0400 (Mon, 27 Mar 2023)
git_url: https://git.bioconductor.org/packages/BDMMAcorrect
git_branch: RELEASE_3_16
git_last_commit: 61ae2d3
git_last_commit_date: 2023-01-19 11:15:03 -0400 (Thu, 19 Jan 2023)
nebbiolo2Linux (Ubuntu 20.04.5 LTS) / x86_64  OK    OK    OK  UNNEEDED, same version is already published
palomino4Windows Server 2022 Datacenter / x64  OK    OK    OK    OK  UNNEEDED, same version is already published
lconwaymacOS 12.5.1 Monterey / x86_64  OK    OK    OK    OK  UNNEEDED, same version is already published

Summary

Package: BDMMAcorrect
Version: 1.16.2
Command: F:\biocbuild\bbs-3.16-bioc\R\bin\R.exe CMD INSTALL BDMMAcorrect
StartedAt: 2023-03-27 15:53:40 -0400 (Mon, 27 Mar 2023)
EndedAt: 2023-03-27 15:54:31 -0400 (Mon, 27 Mar 2023)
EllapsedTime: 50.9 seconds
RetCode: 0
Status:   OK  

Command output

##############################################################################
##############################################################################
###
### Running command:
###
###   F:\biocbuild\bbs-3.16-bioc\R\bin\R.exe CMD INSTALL BDMMAcorrect
###
##############################################################################
##############################################################################


* installing to library 'F:/biocbuild/bbs-3.16-bioc/R/library'
* installing *source* package 'BDMMAcorrect' ...
** using staged installation
** libs
g++ -std=gnu++14  -I"F:/biocbuild/bbs-3.16-bioc/R/include" -DNDEBUG  -I'F:/biocbuild/bbs-3.16-bioc/R/library/Rcpp/include' -I'F:/biocbuild/bbs-3.16-bioc/R/library/RcppArmadillo/include' -I'F:/biocbuild/bbs-3.16-bioc/R/library/RcppEigen/include'   -I"C:/rtools42/x86_64-w64-mingw32.static.posix/include"  -DARMA_DONT_USE_OPENMP   -O2 -Wall  -mfpmath=sse -msse2 -mstackrealign  -c MCMC_algorithm.cpp -o MCMC_algorithm.o
In file included from F:/biocbuild/bbs-3.16-bioc/R/library/RcppEigen/include/Eigen/Core:397,
                 from F:/biocbuild/bbs-3.16-bioc/R/library/RcppEigen/include/Eigen/Dense:1,
                 from F:/biocbuild/bbs-3.16-bioc/R/library/RcppEigen/include/RcppEigenForward.h:30,
                 from F:/biocbuild/bbs-3.16-bioc/R/library/RcppEigen/include/RcppEigen.h:25,
                 from MCMC_algorithm.cpp:3:
F:/biocbuild/bbs-3.16-bioc/R/library/RcppEigen/include/Eigen/src/Core/arch/SSE/PacketMath.h:60:39: warning: ignoring attributes on template argument '__m128' [-Wignored-attributes]
   60 | template<> struct is_arithmetic<__m128>  { enum { value = true }; };
      |                                       ^
F:/biocbuild/bbs-3.16-bioc/R/library/RcppEigen/include/Eigen/src/Core/arch/SSE/PacketMath.h:61:40: warning: ignoring attributes on template argument '__m128i' [-Wignored-attributes]
   61 | template<> struct is_arithmetic<__m128i> { enum { value = true }; };
      |                                        ^
F:/biocbuild/bbs-3.16-bioc/R/library/RcppEigen/include/Eigen/src/Core/arch/SSE/PacketMath.h:62:40: warning: ignoring attributes on template argument '__m128d' [-Wignored-attributes]
   62 | template<> struct is_arithmetic<__m128d> { enum { value = true }; };
      |                                        ^
F:/biocbuild/bbs-3.16-bioc/R/library/RcppEigen/include/Eigen/src/Core/arch/SSE/PacketMath.h:161:43: warning: ignoring attributes on template argument 'Eigen::internal::Packet4f' {aka '__m128'} [-Wignored-attributes]
  161 | template<> struct unpacket_traits<Packet4f> { typedef float  type; enum {size=4, alignment=Aligned16}; typedef Packet4f half; };
      |                                           ^
F:/biocbuild/bbs-3.16-bioc/R/library/RcppEigen/include/Eigen/src/Core/arch/SSE/PacketMath.h:162:43: warning: ignoring attributes on template argument 'Eigen::internal::Packet2d' {aka '__m128d'} [-Wignored-attributes]
  162 | template<> struct unpacket_traits<Packet2d> { typedef double type; enum {size=2, alignment=Aligned16}; typedef Packet2d half; };
      |                                           ^
F:/biocbuild/bbs-3.16-bioc/R/library/RcppEigen/include/Eigen/src/Core/arch/SSE/PacketMath.h:163:43: warning: ignoring attributes on template argument 'Eigen::internal::Packet4i' {aka '__m128i'} [-Wignored-attributes]
  163 | template<> struct unpacket_traits<Packet4i> { typedef int    type; enum {size=4, alignment=Aligned16}; typedef Packet4i half; };
      |                                           ^
F:/biocbuild/bbs-3.16-bioc/R/library/RcppEigen/include/Eigen/src/Core/arch/SSE/PacketMath.h:718:35: warning: ignoring attributes on template argument 'Eigen::internal::Packet4f' {aka '__m128'} [-Wignored-attributes]
  718 | struct palign_impl<Offset,Packet4f>
      |                                   ^
F:/biocbuild/bbs-3.16-bioc/R/library/RcppEigen/include/Eigen/src/Core/arch/SSE/PacketMath.h:741:35: warning: ignoring attributes on template argument 'Eigen::internal::Packet4i' {aka '__m128i'} [-Wignored-attributes]
  741 | struct palign_impl<Offset,Packet4i>
      |                                   ^
F:/biocbuild/bbs-3.16-bioc/R/library/RcppEigen/include/Eigen/src/Core/arch/SSE/PacketMath.h:764:35: warning: ignoring attributes on template argument 'Eigen::internal::Packet2d' {aka '__m128d'} [-Wignored-attributes]
  764 | struct palign_impl<Offset,Packet2d>
      |                                   ^
F:/biocbuild/bbs-3.16-bioc/R/library/RcppEigen/include/Eigen/src/Core/arch/SSE/PacketMath.h:778:34: warning: ignoring attributes on template argument 'Eigen::internal::Packet4f' {aka '__m128'} [-Wignored-attributes]
  778 | ptranspose(PacketBlock<Packet4f,4>& kernel) {
      |                                  ^
F:/biocbuild/bbs-3.16-bioc/R/library/RcppEigen/include/Eigen/src/Core/arch/SSE/PacketMath.h:783:34: warning: ignoring attributes on template argument 'Eigen::internal::Packet2d' {aka '__m128d'} [-Wignored-attributes]
  783 | ptranspose(PacketBlock<Packet2d,2>& kernel) {
      |                                  ^
F:/biocbuild/bbs-3.16-bioc/R/library/RcppEigen/include/Eigen/src/Core/arch/SSE/PacketMath.h:790:34: warning: ignoring attributes on template argument 'Eigen::internal::Packet4i' {aka '__m128i'} [-Wignored-attributes]
  790 | ptranspose(PacketBlock<Packet4i,4>& kernel) {
      |                                  ^
In file included from F:/biocbuild/bbs-3.16-bioc/R/library/RcppEigen/include/Eigen/Core:377,
                 from F:/biocbuild/bbs-3.16-bioc/R/library/RcppEigen/include/Eigen/Dense:1,
                 from F:/biocbuild/bbs-3.16-bioc/R/library/RcppEigen/include/RcppEigenForward.h:30,
                 from F:/biocbuild/bbs-3.16-bioc/R/library/RcppEigen/include/RcppEigen.h:25,
                 from MCMC_algorithm.cpp:3:
F:/biocbuild/bbs-3.16-bioc/R/library/RcppEigen/include/Eigen/src/Core/arch/Default/ConjHelper.h:15:70: warning: ignoring attributes on template argument 'Eigen::internal::Packet4f' {aka '__m128'} [-Wignored-attributes]
   15 |   template<> struct conj_helper<PACKET_REAL, PACKET_CPLX, false,false> {                                          \
      |                                                                      ^
F:/biocbuild/bbs-3.16-bioc/R/library/RcppEigen/include/Eigen/src/Core/arch/SSE/Complex.h:232:1: note: in expansion of macro 'EIGEN_MAKE_CONJ_HELPER_CPLX_REAL'
  232 | EIGEN_MAKE_CONJ_HELPER_CPLX_REAL(Packet2cf,Packet4f)
      | ^~~~~~~~~~~~~~~~~~~~~~~~~~~~~~~~
F:/biocbuild/bbs-3.16-bioc/R/library/RcppEigen/include/Eigen/src/Core/arch/Default/ConjHelper.h:22:70: warning: ignoring attributes on template argument 'Eigen::internal::Packet4f' {aka '__m128'} [-Wignored-attributes]
   22 |   template<> struct conj_helper<PACKET_CPLX, PACKET_REAL, false,false> {                                          \
      |                                                                      ^
F:/biocbuild/bbs-3.16-bioc/R/library/RcppEigen/include/Eigen/src/Core/arch/SSE/Complex.h:232:1: note: in expansion of macro 'EIGEN_MAKE_CONJ_HELPER_CPLX_REAL'
  232 | EIGEN_MAKE_CONJ_HELPER_CPLX_REAL(Packet2cf,Packet4f)
      | ^~~~~~~~~~~~~~~~~~~~~~~~~~~~~~~~
F:/biocbuild/bbs-3.16-bioc/R/library/RcppEigen/include/Eigen/src/Core/arch/Default/ConjHelper.h:15:70: warning: ignoring attributes on template argument 'Eigen::internal::Packet2d' {aka '__m128d'} [-Wignored-attributes]
   15 |   template<> struct conj_helper<PACKET_REAL, PACKET_CPLX, false,false> {                                          \
      |                                                                      ^
F:/biocbuild/bbs-3.16-bioc/R/library/RcppEigen/include/Eigen/src/Core/arch/SSE/Complex.h:417:1: note: in expansion of macro 'EIGEN_MAKE_CONJ_HELPER_CPLX_REAL'
  417 | EIGEN_MAKE_CONJ_HELPER_CPLX_REAL(Packet1cd,Packet2d)
      | ^~~~~~~~~~~~~~~~~~~~~~~~~~~~~~~~
F:/biocbuild/bbs-3.16-bioc/R/library/RcppEigen/include/Eigen/src/Core/arch/Default/ConjHelper.h:22:70: warning: ignoring attributes on template argument 'Eigen::internal::Packet2d' {aka '__m128d'} [-Wignored-attributes]
   22 |   template<> struct conj_helper<PACKET_CPLX, PACKET_REAL, false,false> {                                          \
      |                                                                      ^
F:/biocbuild/bbs-3.16-bioc/R/library/RcppEigen/include/Eigen/src/Core/arch/SSE/Complex.h:417:1: note: in expansion of macro 'EIGEN_MAKE_CONJ_HELPER_CPLX_REAL'
  417 | EIGEN_MAKE_CONJ_HELPER_CPLX_REAL(Packet1cd,Packet2d)
      | ^~~~~~~~~~~~~~~~~~~~~~~~~~~~~~~~
In file included from F:/biocbuild/bbs-3.16-bioc/R/library/RcppEigen/include/Eigen/Core:370,
                 from F:/biocbuild/bbs-3.16-bioc/R/library/RcppEigen/include/Eigen/Dense:1,
                 from F:/biocbuild/bbs-3.16-bioc/R/library/RcppEigen/include/RcppEigenForward.h:30,
                 from F:/biocbuild/bbs-3.16-bioc/R/library/RcppEigen/include/RcppEigen.h:25,
                 from MCMC_algorithm.cpp:3:
F:/biocbuild/bbs-3.16-bioc/R/library/RcppEigen/include/Eigen/src/Core/util/XprHelper.h: In instantiation of 'struct Eigen::internal::find_best_packet<float, 4>':
F:/biocbuild/bbs-3.16-bioc/R/library/RcppEigen/include/Eigen/src/Core/Matrix.h:22:57:   required from 'struct Eigen::internal::traits<Eigen::Matrix<float, 4, 1> >'
F:/biocbuild/bbs-3.16-bioc/R/library/RcppEigen/include/Eigen/src/Geometry/Quaternion.h:243:49:   required from 'struct Eigen::internal::traits<Eigen::Quaternion<float> >'
F:/biocbuild/bbs-3.16-bioc/R/library/RcppEigen/include/Eigen/src/Geometry/arch/Geometry_SSE.h:24:46:   required from here
F:/biocbuild/bbs-3.16-bioc/R/library/RcppEigen/include/Eigen/src/Core/util/XprHelper.h:187:44: warning: ignoring attributes on template argument 'Eigen::internal::packet_traits<float>::type' {aka '__m128'} [-Wignored-attributes]
  187 |          bool Stop = Size==Dynamic || (Size%unpacket_traits<PacketType>::size)==0 || is_same<PacketType,typename unpacket_traits<PacketType>::half>::value>
      |                                       ~~~~~^~~~~~~~~~~~~~~~~~~~~~~~~~~~~~~~~~~
F:/biocbuild/bbs-3.16-bioc/R/library/RcppEigen/include/Eigen/src/Core/util/XprHelper.h:187:83: warning: ignoring attributes on template argument 'Eigen::internal::packet_traits<float>::type' {aka '__m128'} [-Wignored-attributes]
  187 |          bool Stop = Size==Dynamic || (Size%unpacket_traits<PacketType>::size)==0 || is_same<PacketType,typename unpacket_traits<PacketType>::half>::value>
      |                      ~~~~~~~~~~~~~~~~~~~~~~~~~~~~~~~~~~~~~~~~~~~~~~~~~~~~~~~~~~~~~^~~~~~~~~~~~~~~~~~~~~~~~~~~~~~~~~~~~~~~~~~~~~~~~~~~~~~~~~~~~~~~~~~~~~~~~
F:/biocbuild/bbs-3.16-bioc/R/library/RcppEigen/include/Eigen/src/Core/util/XprHelper.h:187:83: warning: ignoring attributes on template argument 'Eigen::internal::packet_traits<float>::type' {aka '__m128'} [-Wignored-attributes]
F:/biocbuild/bbs-3.16-bioc/R/library/RcppEigen/include/Eigen/src/Core/util/XprHelper.h:187:83: warning: ignoring attributes on template argument 'Eigen::internal::unpacket_traits<__vector(4) float>::half' {aka '__m128'} [-Wignored-attributes]
F:/biocbuild/bbs-3.16-bioc/R/library/RcppEigen/include/Eigen/src/Core/util/XprHelper.h:205:88: warning: ignoring attributes on template argument 'Eigen::internal::packet_traits<float>::type' {aka '__m128'} [-Wignored-attributes]
  205 |   typedef typename find_best_packet_helper<Size,typename packet_traits<T>::type>::type type;
      |                                                                                        ^~~~
In file included from F:/biocbuild/bbs-3.16-bioc/R/library/RcppEigen/include/Eigen/Core:439,
                 from F:/biocbuild/bbs-3.16-bioc/R/library/RcppEigen/include/Eigen/Dense:1,
                 from F:/biocbuild/bbs-3.16-bioc/R/library/RcppEigen/include/RcppEigenForward.h:30,
                 from F:/biocbuild/bbs-3.16-bioc/R/library/RcppEigen/include/RcppEigen.h:25,
                 from MCMC_algorithm.cpp:3:
F:/biocbuild/bbs-3.16-bioc/R/library/RcppEigen/include/Eigen/src/Core/DenseCoeffsBase.h: In instantiation of 'class Eigen::DenseCoeffsBase<Eigen::Matrix<float, 4, 1>, 0>':
F:/biocbuild/bbs-3.16-bioc/R/library/RcppEigen/include/Eigen/src/Core/DenseCoeffsBase.h:300:7:   required from 'class Eigen::DenseCoeffsBase<Eigen::Matrix<float, 4, 1>, 1>'
F:/biocbuild/bbs-3.16-bioc/R/library/RcppEigen/include/Eigen/src/Core/DenseCoeffsBase.h:551:7:   required from 'class Eigen::DenseCoeffsBase<Eigen::Matrix<float, 4, 1>, 3>'
F:/biocbuild/bbs-3.16-bioc/R/library/RcppEigen/include/Eigen/src/Core/DenseBase.h:41:34:   required from 'class Eigen::DenseBase<Eigen::Matrix<float, 4, 1> >'
F:/biocbuild/bbs-3.16-bioc/R/library/RcppEigen/include/Eigen/src/Core/MatrixBase.h:48:34:   required from 'class Eigen::MatrixBase<Eigen::Matrix<float, 4, 1> >'
F:/biocbuild/bbs-3.16-bioc/R/library/RcppEigen/include/Eigen/src/Core/PlainObjectBase.h:98:7:   required from 'class Eigen::PlainObjectBase<Eigen::Matrix<float, 4, 1> >'
F:/biocbuild/bbs-3.16-bioc/R/library/RcppEigen/include/Eigen/src/Core/Matrix.h:178:7:   required from 'class Eigen::Matrix<float, 4, 1>'
F:/biocbuild/bbs-3.16-bioc/R/library/RcppEigen/include/Eigen/src/Geometry/Quaternion.h:46:50:   required from 'class Eigen::QuaternionBase<Eigen::Quaternion<float> >'
F:/biocbuild/bbs-3.16-bioc/R/library/RcppEigen/include/Eigen/src/Geometry/Quaternion.h:250:7:   required from 'class Eigen::Quaternion<float>'
F:/biocbuild/bbs-3.16-bioc/R/library/RcppEigen/include/Eigen/src/Geometry/arch/Geometry_SSE.h:27:3:   required from here
F:/biocbuild/bbs-3.16-bioc/R/library/RcppEigen/include/Eigen/src/Core/DenseCoeffsBase.h:55:30: warning: ignoring attributes on template argument 'Eigen::internal::packet_traits<float>::type' {aka '__m128'} [-Wignored-attributes]
   55 |                      >::type PacketReturnType;
      |                              ^~~~~~~~~~~~~~~~
In file included from F:/biocbuild/bbs-3.16-bioc/R/library/RcppEigen/include/Eigen/Core:370,
                 from F:/biocbuild/bbs-3.16-bioc/R/library/RcppEigen/include/Eigen/Dense:1,
                 from F:/biocbuild/bbs-3.16-bioc/R/library/RcppEigen/include/RcppEigenForward.h:30,
                 from F:/biocbuild/bbs-3.16-bioc/R/library/RcppEigen/include/RcppEigen.h:25,
                 from MCMC_algorithm.cpp:3:
F:/biocbuild/bbs-3.16-bioc/R/library/RcppEigen/include/Eigen/src/Core/util/XprHelper.h: In instantiation of 'struct Eigen::internal::find_best_packet<double, 4>':
F:/biocbuild/bbs-3.16-bioc/R/library/RcppEigen/include/Eigen/src/Core/Matrix.h:22:57:   required from 'struct Eigen::internal::traits<Eigen::Matrix<double, 4, 1> >'
F:/biocbuild/bbs-3.16-bioc/R/library/RcppEigen/include/Eigen/src/Geometry/Quaternion.h:243:49:   required from 'struct Eigen::internal::traits<Eigen::Quaternion<double> >'
F:/biocbuild/bbs-3.16-bioc/R/library/RcppEigen/include/Eigen/src/Geometry/arch/Geometry_SSE.h:88:47:   required from here
F:/biocbuild/bbs-3.16-bioc/R/library/RcppEigen/include/Eigen/src/Core/util/XprHelper.h:187:44: warning: ignoring attributes on template argument 'Eigen::internal::packet_traits<double>::type' {aka '__m128d'} [-Wignored-attributes]
  187 |          bool Stop = Size==Dynamic || (Size%unpacket_traits<PacketType>::size)==0 || is_same<PacketType,typename unpacket_traits<PacketType>::half>::value>
      |                                       ~~~~~^~~~~~~~~~~~~~~~~~~~~~~~~~~~~~~~~~~
F:/biocbuild/bbs-3.16-bioc/R/library/RcppEigen/include/Eigen/src/Core/util/XprHelper.h:187:83: warning: ignoring attributes on template argument 'Eigen::internal::packet_traits<double>::type' {aka '__m128d'} [-Wignored-attributes]
  187 |          bool Stop = Size==Dynamic || (Size%unpacket_traits<PacketType>::size)==0 || is_same<PacketType,typename unpacket_traits<PacketType>::half>::value>
      |                      ~~~~~~~~~~~~~~~~~~~~~~~~~~~~~~~~~~~~~~~~~~~~~~~~~~~~~~~~~~~~~^~~~~~~~~~~~~~~~~~~~~~~~~~~~~~~~~~~~~~~~~~~~~~~~~~~~~~~~~~~~~~~~~~~~~~~~
F:/biocbuild/bbs-3.16-bioc/R/library/RcppEigen/include/Eigen/src/Core/util/XprHelper.h:187:83: warning: ignoring attributes on template argument 'Eigen::internal::packet_traits<double>::type' {aka '__m128d'} [-Wignored-attributes]
F:/biocbuild/bbs-3.16-bioc/R/library/RcppEigen/include/Eigen/src/Core/util/XprHelper.h:187:83: warning: ignoring attributes on template argument 'Eigen::internal::unpacket_traits<__vector(2) double>::half' {aka '__m128d'} [-Wignored-attributes]
F:/biocbuild/bbs-3.16-bioc/R/library/RcppEigen/include/Eigen/src/Core/util/XprHelper.h:205:88: warning: ignoring attributes on template argument 'Eigen::internal::packet_traits<double>::type' {aka '__m128d'} [-Wignored-attributes]
  205 |   typedef typename find_best_packet_helper<Size,typename packet_traits<T>::type>::type type;
      |                                                                                        ^~~~
In file included from F:/biocbuild/bbs-3.16-bioc/R/library/RcppEigen/include/Eigen/Core:439,
                 from F:/biocbuild/bbs-3.16-bioc/R/library/RcppEigen/include/Eigen/Dense:1,
                 from F:/biocbuild/bbs-3.16-bioc/R/library/RcppEigen/include/RcppEigenForward.h:30,
                 from F:/biocbuild/bbs-3.16-bioc/R/library/RcppEigen/include/RcppEigen.h:25,
                 from MCMC_algorithm.cpp:3:
F:/biocbuild/bbs-3.16-bioc/R/library/RcppEigen/include/Eigen/src/Core/DenseCoeffsBase.h: In instantiation of 'class Eigen::DenseCoeffsBase<Eigen::Matrix<double, 4, 1>, 0>':
F:/biocbuild/bbs-3.16-bioc/R/library/RcppEigen/include/Eigen/src/Core/DenseCoeffsBase.h:300:7:   required from 'class Eigen::DenseCoeffsBase<Eigen::Matrix<double, 4, 1>, 1>'
F:/biocbuild/bbs-3.16-bioc/R/library/RcppEigen/include/Eigen/src/Core/DenseCoeffsBase.h:551:7:   required from 'class Eigen::DenseCoeffsBase<Eigen::Matrix<double, 4, 1>, 3>'
F:/biocbuild/bbs-3.16-bioc/R/library/RcppEigen/include/Eigen/src/Core/DenseBase.h:41:34:   required from 'class Eigen::DenseBase<Eigen::Matrix<double, 4, 1> >'
F:/biocbuild/bbs-3.16-bioc/R/library/RcppEigen/include/Eigen/src/Core/MatrixBase.h:48:34:   required from 'class Eigen::MatrixBase<Eigen::Matrix<double, 4, 1> >'
F:/biocbuild/bbs-3.16-bioc/R/library/RcppEigen/include/Eigen/src/Core/PlainObjectBase.h:98:7:   required from 'class Eigen::PlainObjectBase<Eigen::Matrix<double, 4, 1> >'
F:/biocbuild/bbs-3.16-bioc/R/library/RcppEigen/include/Eigen/src/Core/Matrix.h:178:7:   required from 'class Eigen::Matrix<double, 4, 1>'
F:/biocbuild/bbs-3.16-bioc/R/library/RcppEigen/include/Eigen/src/Geometry/Quaternion.h:46:50:   required from 'class Eigen::QuaternionBase<Eigen::Quaternion<double> >'
F:/biocbuild/bbs-3.16-bioc/R/library/RcppEigen/include/Eigen/src/Geometry/Quaternion.h:250:7:   required from 'class Eigen::Quaternion<double>'
F:/biocbuild/bbs-3.16-bioc/R/library/RcppEigen/include/Eigen/src/Geometry/arch/Geometry_SSE.h:92:3:   required from here
F:/biocbuild/bbs-3.16-bioc/R/library/RcppEigen/include/Eigen/src/Core/DenseCoeffsBase.h:55:30: warning: ignoring attributes on template argument 'Eigen::internal::packet_traits<double>::type' {aka '__m128d'} [-Wignored-attributes]
   55 |                      >::type PacketReturnType;
      |                              ^~~~~~~~~~~~~~~~
In file included from F:/biocbuild/bbs-3.16-bioc/R/library/RcppEigen/include/Eigen/SparseCore:37,
                 from F:/biocbuild/bbs-3.16-bioc/R/library/RcppEigen/include/Eigen/Sparse:26,
                 from F:/biocbuild/bbs-3.16-bioc/R/library/RcppEigen/include/RcppEigenForward.h:31,
                 from F:/biocbuild/bbs-3.16-bioc/R/library/RcppEigen/include/RcppEigen.h:25,
                 from MCMC_algorithm.cpp:3:
F:/biocbuild/bbs-3.16-bioc/R/library/RcppEigen/include/Eigen/src/SparseCore/SparseMatrixBase.h: In instantiation of 'class Eigen::SparseMatrixBase<Eigen::SparseMatrix<double, 0, int> >':
F:/biocbuild/bbs-3.16-bioc/R/library/RcppEigen/include/Eigen/src/SparseCore/SparseCompressedBase.h:36:7:   required from 'class Eigen::SparseCompressedBase<Eigen::SparseMatrix<double, 0, int> >'
F:/biocbuild/bbs-3.16-bioc/R/library/RcppEigen/include/Eigen/src/SparseCore/SparseMatrix.h:96:7:   required from 'class Eigen::SparseMatrix<double, 0, int>'
F:/biocbuild/bbs-3.16-bioc/R/library/RcppEigen/include/unsupported/Eigen/src/IterativeSolvers/ConstrainedConjGrad.h:61:25:   required from here
F:/biocbuild/bbs-3.16-bioc/R/library/RcppEigen/include/Eigen/src/SparseCore/SparseMatrixBase.h:47:30: warning: ignoring attributes on template argument 'Eigen::internal::packet_traits<double>::type' {aka '__m128d'} [-Wignored-attributes]
   47 |                      >::type PacketReturnType;
      |                              ^~~~~~~~~~~~~~~~
In file included from F:/biocbuild/bbs-3.16-bioc/R/library/RcppEigen/include/Eigen/Core:370,
                 from F:/biocbuild/bbs-3.16-bioc/R/library/RcppEigen/include/Eigen/Dense:1,
                 from F:/biocbuild/bbs-3.16-bioc/R/library/RcppEigen/include/RcppEigenForward.h:30,
                 from F:/biocbuild/bbs-3.16-bioc/R/library/RcppEigen/include/RcppEigen.h:25,
                 from MCMC_algorithm.cpp:3:
F:/biocbuild/bbs-3.16-bioc/R/library/RcppEigen/include/Eigen/src/Core/util/XprHelper.h: In instantiation of 'struct Eigen::internal::find_best_packet<int, -1>':
F:/biocbuild/bbs-3.16-bioc/R/library/RcppEigen/include/Eigen/src/Core/Matrix.h:22:57:   required from 'struct Eigen::internal::traits<Eigen::Matrix<int, -1, 1> >'
F:/biocbuild/bbs-3.16-bioc/R/library/RcppEigen/include/Eigen/src/Core/PlainObjectBase.h:98:7:   required from 'class Eigen::PlainObjectBase<Eigen::Matrix<int, -1, 1> >'
F:/biocbuild/bbs-3.16-bioc/R/library/RcppEigen/include/Eigen/src/Core/Matrix.h:178:7:   required from 'class Eigen::Matrix<int, -1, 1>'
F:/biocbuild/bbs-3.16-bioc/R/library/RcppEigen/include/unsupported/Eigen/src/KroneckerProduct/KroneckerTensorProduct.h:168:29:   required from here
F:/biocbuild/bbs-3.16-bioc/R/library/RcppEigen/include/Eigen/src/Core/util/XprHelper.h:187:44: warning: ignoring attributes on template argument 'Eigen::internal::packet_traits<int>::type' {aka '__m128i'} [-Wignored-attributes]
  187 |          bool Stop = Size==Dynamic || (Size%unpacket_traits<PacketType>::size)==0 || is_same<PacketType,typename unpacket_traits<PacketType>::half>::value>
      |                                       ~~~~~^~~~~~~~~~~~~~~~~~~~~~~~~~~~~~~~~~~
F:/biocbuild/bbs-3.16-bioc/R/library/RcppEigen/include/Eigen/src/Core/util/XprHelper.h:187:83: warning: ignoring attributes on template argument 'Eigen::internal::packet_traits<int>::type' {aka '__m128i'} [-Wignored-attributes]
  187 |          bool Stop = Size==Dynamic || (Size%unpacket_traits<PacketType>::size)==0 || is_same<PacketType,typename unpacket_traits<PacketType>::half>::value>
      |                      ~~~~~~~~~~~~~~~~~~~~~~~~~~~~~~~~~~~~~~~~~~~~~~~~~~~~~~~~~~~~~^~~~~~~~~~~~~~~~~~~~~~~~~~~~~~~~~~~~~~~~~~~~~~~~~~~~~~~~~~~~~~~~~~~~~~~~
F:/biocbuild/bbs-3.16-bioc/R/library/RcppEigen/include/Eigen/src/Core/util/XprHelper.h:187:83: warning: ignoring attributes on template argument 'Eigen::internal::packet_traits<int>::type' {aka '__m128i'} [-Wignored-attributes]
F:/biocbuild/bbs-3.16-bioc/R/library/RcppEigen/include/Eigen/src/Core/util/XprHelper.h:187:83: warning: ignoring attributes on template argument 'Eigen::internal::unpacket_traits<__vector(2) long long int>::half' {aka '__m128i'} [-Wignored-attributes]
F:/biocbuild/bbs-3.16-bioc/R/library/RcppEigen/include/Eigen/src/Core/util/XprHelper.h:205:88: warning: ignoring attributes on template argument 'Eigen::internal::packet_traits<int>::type' {aka '__m128i'} [-Wignored-attributes]
  205 |   typedef typename find_best_packet_helper<Size,typename packet_traits<T>::type>::type type;
      |                                                                                        ^~~~
In file included from F:/biocbuild/bbs-3.16-bioc/R/library/RcppEigen/include/Eigen/Core:439,
                 from F:/biocbuild/bbs-3.16-bioc/R/library/RcppEigen/include/Eigen/Dense:1,
                 from F:/biocbuild/bbs-3.16-bioc/R/library/RcppEigen/include/RcppEigenForward.h:30,
                 from F:/biocbuild/bbs-3.16-bioc/R/library/RcppEigen/include/RcppEigen.h:25,
                 from MCMC_algorithm.cpp:3:
F:/biocbuild/bbs-3.16-bioc/R/library/RcppEigen/include/Eigen/src/Core/DenseCoeffsBase.h: In instantiation of 'class Eigen::DenseCoeffsBase<Eigen::Matrix<int, -1, 1>, 0>':
F:/biocbuild/bbs-3.16-bioc/R/library/RcppEigen/include/Eigen/src/Core/DenseCoeffsBase.h:300:7:   required from 'class Eigen::DenseCoeffsBase<Eigen::Matrix<int, -1, 1>, 1>'
F:/biocbuild/bbs-3.16-bioc/R/library/RcppEigen/include/Eigen/src/Core/DenseCoeffsBase.h:551:7:   required from 'class Eigen::DenseCoeffsBase<Eigen::Matrix<int, -1, 1>, 3>'
F:/biocbuild/bbs-3.16-bioc/R/library/RcppEigen/include/Eigen/src/Core/DenseBase.h:41:34:   required from 'class Eigen::DenseBase<Eigen::Matrix<int, -1, 1> >'
F:/biocbuild/bbs-3.16-bioc/R/library/RcppEigen/include/Eigen/src/Core/MatrixBase.h:48:34:   required from 'class Eigen::MatrixBase<Eigen::Matrix<int, -1, 1> >'
F:/biocbuild/bbs-3.16-bioc/R/library/RcppEigen/include/Eigen/src/Core/PlainObjectBase.h:98:7:   required from 'class Eigen::PlainObjectBase<Eigen::Matrix<int, -1, 1> >'
F:/biocbuild/bbs-3.16-bioc/R/library/RcppEigen/include/Eigen/src/Core/Matrix.h:178:7:   required from 'class Eigen::Matrix<int, -1, 1>'
F:/biocbuild/bbs-3.16-bioc/R/library/RcppEigen/include/unsupported/Eigen/src/KroneckerProduct/KroneckerTensorProduct.h:168:29:   required from here
F:/biocbuild/bbs-3.16-bioc/R/library/RcppEigen/include/Eigen/src/Core/DenseCoeffsBase.h:55:30: warning: ignoring attributes on template argument 'Eigen::internal::packet_traits<int>::type' {aka '__m128i'} [-Wignored-attributes]
   55 |                      >::type PacketReturnType;
      |                              ^~~~~~~~~~~~~~~~
F:/biocbuild/bbs-3.16-bioc/R/library/RcppEigen/include/Eigen/src/Core/DenseCoeffsBase.h: In instantiation of 'class Eigen::DenseCoeffsBase<Eigen::Transpose<Eigen::Matrix<int, -1, 1> >, 0>':
F:/biocbuild/bbs-3.16-bioc/R/library/RcppEigen/include/Eigen/src/Core/DenseCoeffsBase.h:300:7:   required from 'class Eigen::DenseCoeffsBase<Eigen::Transpose<Eigen::Matrix<int, -1, 1> >, 1>'
F:/biocbuild/bbs-3.16-bioc/R/library/RcppEigen/include/Eigen/src/Core/DenseCoeffsBase.h:551:7:   required from 'class Eigen::DenseCoeffsBase<Eigen::Transpose<Eigen::Matrix<int, -1, 1> >, 3>'
F:/biocbuild/bbs-3.16-bioc/R/library/RcppEigen/include/Eigen/src/Core/DenseBase.h:41:34:   required from 'class Eigen::DenseBase<Eigen::Transpose<Eigen::Matrix<int, -1, 1> > >'
F:/biocbuild/bbs-3.16-bioc/R/library/RcppEigen/include/Eigen/src/Core/MatrixBase.h:48:34:   required from 'class Eigen::MatrixBase<Eigen::Transpose<Eigen::Matrix<int, -1, 1> > >'
F:/biocbuild/bbs-3.16-bioc/R/library/RcppEigen/include/Eigen/src/Core/Transpose.h:115:37:   required from 'class Eigen::TransposeImpl<Eigen::Matrix<int, -1, 1>, Eigen::Dense>'
F:/biocbuild/bbs-3.16-bioc/R/library/RcppEigen/include/Eigen/src/Core/Transpose.h:52:37:   required from 'class Eigen::Transpose<Eigen::Matrix<int, -1, 1> >'
F:/biocbuild/bbs-3.16-bioc/R/library/RcppEigen/include/unsupported/Eigen/src/KroneckerProduct/KroneckerTensorProduct.h:178:72:   required from here
F:/biocbuild/bbs-3.16-bioc/R/library/RcppEigen/include/Eigen/src/Core/DenseCoeffsBase.h:55:30: warning: ignoring attributes on template argument 'Eigen::internal::packet_traits<int>::type' {aka '__m128i'} [-Wignored-attributes]
F:/biocbuild/bbs-3.16-bioc/R/library/RcppEigen/include/Eigen/src/Core/DenseCoeffsBase.h: In instantiation of 'class Eigen::DenseCoeffsBase<Eigen::Matrix<int, -1, -1>, 0>':
F:/biocbuild/bbs-3.16-bioc/R/library/RcppEigen/include/Eigen/src/Core/DenseCoeffsBase.h:300:7:   required from 'class Eigen::DenseCoeffsBase<Eigen::Matrix<int, -1, -1>, 1>'
F:/biocbuild/bbs-3.16-bioc/R/library/RcppEigen/include/Eigen/src/Core/DenseCoeffsBase.h:551:7:   required from 'class Eigen::DenseCoeffsBase<Eigen::Matrix<int, -1, -1>, 3>'
F:/biocbuild/bbs-3.16-bioc/R/library/RcppEigen/include/Eigen/src/Core/DenseBase.h:41:34:   required from 'class Eigen::DenseBase<Eigen::Matrix<int, -1, -1> >'
F:/biocbuild/bbs-3.16-bioc/R/library/RcppEigen/include/Eigen/src/Core/MatrixBase.h:48:34:   required from 'class Eigen::MatrixBase<Eigen::Matrix<int, -1, -1> >'
F:/biocbuild/bbs-3.16-bioc/R/library/RcppEigen/include/Eigen/src/Core/PlainObjectBase.h:98:7:   required from 'class Eigen::PlainObjectBase<Eigen::Matrix<int, -1, -1> >'
F:/biocbuild/bbs-3.16-bioc/R/library/RcppEigen/include/Eigen/src/Core/Matrix.h:178:7:   required from 'class Eigen::Matrix<int, -1, -1>'
F:/biocbuild/bbs-3.16-bioc/R/library/RcppEigen/include/unsupported/Eigen/src/KroneckerProduct/KroneckerTensorProduct.h:179:36:   required from here
F:/biocbuild/bbs-3.16-bioc/R/library/RcppEigen/include/Eigen/src/Core/DenseCoeffsBase.h:55:30: warning: ignoring attributes on template argument 'Eigen::internal::packet_traits<int>::type' {aka '__m128i'} [-Wignored-attributes]
g++ -std=gnu++14  -I"F:/biocbuild/bbs-3.16-bioc/R/include" -DNDEBUG  -I'F:/biocbuild/bbs-3.16-bioc/R/library/Rcpp/include' -I'F:/biocbuild/bbs-3.16-bioc/R/library/RcppArmadillo/include' -I'F:/biocbuild/bbs-3.16-bioc/R/library/RcppEigen/include'   -I"C:/rtools42/x86_64-w64-mingw32.static.posix/include"  -DARMA_DONT_USE_OPENMP   -O2 -Wall  -mfpmath=sse -msse2 -mstackrealign  -c RcppExports.cpp -o RcppExports.o
In file included from F:/biocbuild/bbs-3.16-bioc/R/library/RcppEigen/include/Eigen/Core:397,
                 from F:/biocbuild/bbs-3.16-bioc/R/library/RcppEigen/include/Eigen/Dense:1,
                 from F:/biocbuild/bbs-3.16-bioc/R/library/RcppEigen/include/RcppEigenForward.h:30,
                 from F:/biocbuild/bbs-3.16-bioc/R/library/RcppEigen/include/RcppEigen.h:25,
                 from RcppExports.cpp:5:
F:/biocbuild/bbs-3.16-bioc/R/library/RcppEigen/include/Eigen/src/Core/arch/SSE/PacketMath.h:60:39: warning: ignoring attributes on template argument '__m128' [-Wignored-attributes]
   60 | template<> struct is_arithmetic<__m128>  { enum { value = true }; };
      |                                       ^
F:/biocbuild/bbs-3.16-bioc/R/library/RcppEigen/include/Eigen/src/Core/arch/SSE/PacketMath.h:61:40: warning: ignoring attributes on template argument '__m128i' [-Wignored-attributes]
   61 | template<> struct is_arithmetic<__m128i> { enum { value = true }; };
      |                                        ^
F:/biocbuild/bbs-3.16-bioc/R/library/RcppEigen/include/Eigen/src/Core/arch/SSE/PacketMath.h:62:40: warning: ignoring attributes on template argument '__m128d' [-Wignored-attributes]
   62 | template<> struct is_arithmetic<__m128d> { enum { value = true }; };
      |                                        ^
F:/biocbuild/bbs-3.16-bioc/R/library/RcppEigen/include/Eigen/src/Core/arch/SSE/PacketMath.h:161:43: warning: ignoring attributes on template argument 'Eigen::internal::Packet4f' {aka '__m128'} [-Wignored-attributes]
  161 | template<> struct unpacket_traits<Packet4f> { typedef float  type; enum {size=4, alignment=Aligned16}; typedef Packet4f half; };
      |                                           ^
F:/biocbuild/bbs-3.16-bioc/R/library/RcppEigen/include/Eigen/src/Core/arch/SSE/PacketMath.h:162:43: warning: ignoring attributes on template argument 'Eigen::internal::Packet2d' {aka '__m128d'} [-Wignored-attributes]
  162 | template<> struct unpacket_traits<Packet2d> { typedef double type; enum {size=2, alignment=Aligned16}; typedef Packet2d half; };
      |                                           ^
F:/biocbuild/bbs-3.16-bioc/R/library/RcppEigen/include/Eigen/src/Core/arch/SSE/PacketMath.h:163:43: warning: ignoring attributes on template argument 'Eigen::internal::Packet4i' {aka '__m128i'} [-Wignored-attributes]
  163 | template<> struct unpacket_traits<Packet4i> { typedef int    type; enum {size=4, alignment=Aligned16}; typedef Packet4i half; };
      |                                           ^
F:/biocbuild/bbs-3.16-bioc/R/library/RcppEigen/include/Eigen/src/Core/arch/SSE/PacketMath.h:718:35: warning: ignoring attributes on template argument 'Eigen::internal::Packet4f' {aka '__m128'} [-Wignored-attributes]
  718 | struct palign_impl<Offset,Packet4f>
      |                                   ^
F:/biocbuild/bbs-3.16-bioc/R/library/RcppEigen/include/Eigen/src/Core/arch/SSE/PacketMath.h:741:35: warning: ignoring attributes on template argument 'Eigen::internal::Packet4i' {aka '__m128i'} [-Wignored-attributes]
  741 | struct palign_impl<Offset,Packet4i>
      |                                   ^
F:/biocbuild/bbs-3.16-bioc/R/library/RcppEigen/include/Eigen/src/Core/arch/SSE/PacketMath.h:764:35: warning: ignoring attributes on template argument 'Eigen::internal::Packet2d' {aka '__m128d'} [-Wignored-attributes]
  764 | struct palign_impl<Offset,Packet2d>
      |                                   ^
F:/biocbuild/bbs-3.16-bioc/R/library/RcppEigen/include/Eigen/src/Core/arch/SSE/PacketMath.h:778:34: warning: ignoring attributes on template argument 'Eigen::internal::Packet4f' {aka '__m128'} [-Wignored-attributes]
  778 | ptranspose(PacketBlock<Packet4f,4>& kernel) {
      |                                  ^
F:/biocbuild/bbs-3.16-bioc/R/library/RcppEigen/include/Eigen/src/Core/arch/SSE/PacketMath.h:783:34: warning: ignoring attributes on template argument 'Eigen::internal::Packet2d' {aka '__m128d'} [-Wignored-attributes]
  783 | ptranspose(PacketBlock<Packet2d,2>& kernel) {
      |                                  ^
F:/biocbuild/bbs-3.16-bioc/R/library/RcppEigen/include/Eigen/src/Core/arch/SSE/PacketMath.h:790:34: warning: ignoring attributes on template argument 'Eigen::internal::Packet4i' {aka '__m128i'} [-Wignored-attributes]
  790 | ptranspose(PacketBlock<Packet4i,4>& kernel) {
      |                                  ^
In file included from F:/biocbuild/bbs-3.16-bioc/R/library/RcppEigen/include/Eigen/Core:377,
                 from F:/biocbuild/bbs-3.16-bioc/R/library/RcppEigen/include/Eigen/Dense:1,
                 from F:/biocbuild/bbs-3.16-bioc/R/library/RcppEigen/include/RcppEigenForward.h:30,
                 from F:/biocbuild/bbs-3.16-bioc/R/library/RcppEigen/include/RcppEigen.h:25,
                 from RcppExports.cpp:5:
F:/biocbuild/bbs-3.16-bioc/R/library/RcppEigen/include/Eigen/src/Core/arch/Default/ConjHelper.h:15:70: warning: ignoring attributes on template argument 'Eigen::internal::Packet4f' {aka '__m128'} [-Wignored-attributes]
   15 |   template<> struct conj_helper<PACKET_REAL, PACKET_CPLX, false,false> {                                          \
      |                                                                      ^
F:/biocbuild/bbs-3.16-bioc/R/library/RcppEigen/include/Eigen/src/Core/arch/SSE/Complex.h:232:1: note: in expansion of macro 'EIGEN_MAKE_CONJ_HELPER_CPLX_REAL'
  232 | EIGEN_MAKE_CONJ_HELPER_CPLX_REAL(Packet2cf,Packet4f)
      | ^~~~~~~~~~~~~~~~~~~~~~~~~~~~~~~~
F:/biocbuild/bbs-3.16-bioc/R/library/RcppEigen/include/Eigen/src/Core/arch/Default/ConjHelper.h:22:70: warning: ignoring attributes on template argument 'Eigen::internal::Packet4f' {aka '__m128'} [-Wignored-attributes]
   22 |   template<> struct conj_helper<PACKET_CPLX, PACKET_REAL, false,false> {                                          \
      |                                                                      ^
F:/biocbuild/bbs-3.16-bioc/R/library/RcppEigen/include/Eigen/src/Core/arch/SSE/Complex.h:232:1: note: in expansion of macro 'EIGEN_MAKE_CONJ_HELPER_CPLX_REAL'
  232 | EIGEN_MAKE_CONJ_HELPER_CPLX_REAL(Packet2cf,Packet4f)
      | ^~~~~~~~~~~~~~~~~~~~~~~~~~~~~~~~
F:/biocbuild/bbs-3.16-bioc/R/library/RcppEigen/include/Eigen/src/Core/arch/Default/ConjHelper.h:15:70: warning: ignoring attributes on template argument 'Eigen::internal::Packet2d' {aka '__m128d'} [-Wignored-attributes]
   15 |   template<> struct conj_helper<PACKET_REAL, PACKET_CPLX, false,false> {                                          \
      |                                                                      ^
F:/biocbuild/bbs-3.16-bioc/R/library/RcppEigen/include/Eigen/src/Core/arch/SSE/Complex.h:417:1: note: in expansion of macro 'EIGEN_MAKE_CONJ_HELPER_CPLX_REAL'
  417 | EIGEN_MAKE_CONJ_HELPER_CPLX_REAL(Packet1cd,Packet2d)
      | ^~~~~~~~~~~~~~~~~~~~~~~~~~~~~~~~
F:/biocbuild/bbs-3.16-bioc/R/library/RcppEigen/include/Eigen/src/Core/arch/Default/ConjHelper.h:22:70: warning: ignoring attributes on template argument 'Eigen::internal::Packet2d' {aka '__m128d'} [-Wignored-attributes]
   22 |   template<> struct conj_helper<PACKET_CPLX, PACKET_REAL, false,false> {                                          \
      |                                                                      ^
F:/biocbuild/bbs-3.16-bioc/R/library/RcppEigen/include/Eigen/src/Core/arch/SSE/Complex.h:417:1: note: in expansion of macro 'EIGEN_MAKE_CONJ_HELPER_CPLX_REAL'
  417 | EIGEN_MAKE_CONJ_HELPER_CPLX_REAL(Packet1cd,Packet2d)
      | ^~~~~~~~~~~~~~~~~~~~~~~~~~~~~~~~
In file included from F:/biocbuild/bbs-3.16-bioc/R/library/RcppEigen/include/Eigen/Core:370,
                 from F:/biocbuild/bbs-3.16-bioc/R/library/RcppEigen/include/Eigen/Dense:1,
                 from F:/biocbuild/bbs-3.16-bioc/R/library/RcppEigen/include/RcppEigenForward.h:30,
                 from F:/biocbuild/bbs-3.16-bioc/R/library/RcppEigen/include/RcppEigen.h:25,
                 from RcppExports.cpp:5:
F:/biocbuild/bbs-3.16-bioc/R/library/RcppEigen/include/Eigen/src/Core/util/XprHelper.h: In instantiation of 'struct Eigen::internal::find_best_packet<float, 4>':
F:/biocbuild/bbs-3.16-bioc/R/library/RcppEigen/include/Eigen/src/Core/Matrix.h:22:57:   required from 'struct Eigen::internal::traits<Eigen::Matrix<float, 4, 1> >'
F:/biocbuild/bbs-3.16-bioc/R/library/RcppEigen/include/Eigen/src/Geometry/Quaternion.h:243:49:   required from 'struct Eigen::internal::traits<Eigen::Quaternion<float> >'
F:/biocbuild/bbs-3.16-bioc/R/library/RcppEigen/include/Eigen/src/Geometry/arch/Geometry_SSE.h:24:46:   required from here
F:/biocbuild/bbs-3.16-bioc/R/library/RcppEigen/include/Eigen/src/Core/util/XprHelper.h:187:44: warning: ignoring attributes on template argument 'Eigen::internal::packet_traits<float>::type' {aka '__m128'} [-Wignored-attributes]
  187 |          bool Stop = Size==Dynamic || (Size%unpacket_traits<PacketType>::size)==0 || is_same<PacketType,typename unpacket_traits<PacketType>::half>::value>
      |                                       ~~~~~^~~~~~~~~~~~~~~~~~~~~~~~~~~~~~~~~~~
F:/biocbuild/bbs-3.16-bioc/R/library/RcppEigen/include/Eigen/src/Core/util/XprHelper.h:187:83: warning: ignoring attributes on template argument 'Eigen::internal::packet_traits<float>::type' {aka '__m128'} [-Wignored-attributes]
  187 |          bool Stop = Size==Dynamic || (Size%unpacket_traits<PacketType>::size)==0 || is_same<PacketType,typename unpacket_traits<PacketType>::half>::value>
      |                      ~~~~~~~~~~~~~~~~~~~~~~~~~~~~~~~~~~~~~~~~~~~~~~~~~~~~~~~~~~~~~^~~~~~~~~~~~~~~~~~~~~~~~~~~~~~~~~~~~~~~~~~~~~~~~~~~~~~~~~~~~~~~~~~~~~~~~
F:/biocbuild/bbs-3.16-bioc/R/library/RcppEigen/include/Eigen/src/Core/util/XprHelper.h:187:83: warning: ignoring attributes on template argument 'Eigen::internal::packet_traits<float>::type' {aka '__m128'} [-Wignored-attributes]
F:/biocbuild/bbs-3.16-bioc/R/library/RcppEigen/include/Eigen/src/Core/util/XprHelper.h:187:83: warning: ignoring attributes on template argument 'Eigen::internal::unpacket_traits<__vector(4) float>::half' {aka '__m128'} [-Wignored-attributes]
F:/biocbuild/bbs-3.16-bioc/R/library/RcppEigen/include/Eigen/src/Core/util/XprHelper.h:205:88: warning: ignoring attributes on template argument 'Eigen::internal::packet_traits<float>::type' {aka '__m128'} [-Wignored-attributes]
  205 |   typedef typename find_best_packet_helper<Size,typename packet_traits<T>::type>::type type;
      |                                                                                        ^~~~
In file included from F:/biocbuild/bbs-3.16-bioc/R/library/RcppEigen/include/Eigen/Core:439,
                 from F:/biocbuild/bbs-3.16-bioc/R/library/RcppEigen/include/Eigen/Dense:1,
                 from F:/biocbuild/bbs-3.16-bioc/R/library/RcppEigen/include/RcppEigenForward.h:30,
                 from F:/biocbuild/bbs-3.16-bioc/R/library/RcppEigen/include/RcppEigen.h:25,
                 from RcppExports.cpp:5:
F:/biocbuild/bbs-3.16-bioc/R/library/RcppEigen/include/Eigen/src/Core/DenseCoeffsBase.h: In instantiation of 'class Eigen::DenseCoeffsBase<Eigen::Matrix<float, 4, 1>, 0>':
F:/biocbuild/bbs-3.16-bioc/R/library/RcppEigen/include/Eigen/src/Core/DenseCoeffsBase.h:300:7:   required from 'class Eigen::DenseCoeffsBase<Eigen::Matrix<float, 4, 1>, 1>'
F:/biocbuild/bbs-3.16-bioc/R/library/RcppEigen/include/Eigen/src/Core/DenseCoeffsBase.h:551:7:   required from 'class Eigen::DenseCoeffsBase<Eigen::Matrix<float, 4, 1>, 3>'
F:/biocbuild/bbs-3.16-bioc/R/library/RcppEigen/include/Eigen/src/Core/DenseBase.h:41:34:   required from 'class Eigen::DenseBase<Eigen::Matrix<float, 4, 1> >'
F:/biocbuild/bbs-3.16-bioc/R/library/RcppEigen/include/Eigen/src/Core/MatrixBase.h:48:34:   required from 'class Eigen::MatrixBase<Eigen::Matrix<float, 4, 1> >'
F:/biocbuild/bbs-3.16-bioc/R/library/RcppEigen/include/Eigen/src/Core/PlainObjectBase.h:98:7:   required from 'class Eigen::PlainObjectBase<Eigen::Matrix<float, 4, 1> >'
F:/biocbuild/bbs-3.16-bioc/R/library/RcppEigen/include/Eigen/src/Core/Matrix.h:178:7:   required from 'class Eigen::Matrix<float, 4, 1>'
F:/biocbuild/bbs-3.16-bioc/R/library/RcppEigen/include/Eigen/src/Geometry/Quaternion.h:46:50:   required from 'class Eigen::QuaternionBase<Eigen::Quaternion<float> >'
F:/biocbuild/bbs-3.16-bioc/R/library/RcppEigen/include/Eigen/src/Geometry/Quaternion.h:250:7:   required from 'class Eigen::Quaternion<float>'
F:/biocbuild/bbs-3.16-bioc/R/library/RcppEigen/include/Eigen/src/Geometry/arch/Geometry_SSE.h:27:3:   required from here
F:/biocbuild/bbs-3.16-bioc/R/library/RcppEigen/include/Eigen/src/Core/DenseCoeffsBase.h:55:30: warning: ignoring attributes on template argument 'Eigen::internal::packet_traits<float>::type' {aka '__m128'} [-Wignored-attributes]
   55 |                      >::type PacketReturnType;
      |                              ^~~~~~~~~~~~~~~~
In file included from F:/biocbuild/bbs-3.16-bioc/R/library/RcppEigen/include/Eigen/Core:370,
                 from F:/biocbuild/bbs-3.16-bioc/R/library/RcppEigen/include/Eigen/Dense:1,
                 from F:/biocbuild/bbs-3.16-bioc/R/library/RcppEigen/include/RcppEigenForward.h:30,
                 from F:/biocbuild/bbs-3.16-bioc/R/library/RcppEigen/include/RcppEigen.h:25,
                 from RcppExports.cpp:5:
F:/biocbuild/bbs-3.16-bioc/R/library/RcppEigen/include/Eigen/src/Core/util/XprHelper.h: In instantiation of 'struct Eigen::internal::find_best_packet<double, 4>':
F:/biocbuild/bbs-3.16-bioc/R/library/RcppEigen/include/Eigen/src/Core/Matrix.h:22:57:   required from 'struct Eigen::internal::traits<Eigen::Matrix<double, 4, 1> >'
F:/biocbuild/bbs-3.16-bioc/R/library/RcppEigen/include/Eigen/src/Geometry/Quaternion.h:243:49:   required from 'struct Eigen::internal::traits<Eigen::Quaternion<double> >'
F:/biocbuild/bbs-3.16-bioc/R/library/RcppEigen/include/Eigen/src/Geometry/arch/Geometry_SSE.h:88:47:   required from here
F:/biocbuild/bbs-3.16-bioc/R/library/RcppEigen/include/Eigen/src/Core/util/XprHelper.h:187:44: warning: ignoring attributes on template argument 'Eigen::internal::packet_traits<double>::type' {aka '__m128d'} [-Wignored-attributes]
  187 |          bool Stop = Size==Dynamic || (Size%unpacket_traits<PacketType>::size)==0 || is_same<PacketType,typename unpacket_traits<PacketType>::half>::value>
      |                                       ~~~~~^~~~~~~~~~~~~~~~~~~~~~~~~~~~~~~~~~~
F:/biocbuild/bbs-3.16-bioc/R/library/RcppEigen/include/Eigen/src/Core/util/XprHelper.h:187:83: warning: ignoring attributes on template argument 'Eigen::internal::packet_traits<double>::type' {aka '__m128d'} [-Wignored-attributes]
  187 |          bool Stop = Size==Dynamic || (Size%unpacket_traits<PacketType>::size)==0 || is_same<PacketType,typename unpacket_traits<PacketType>::half>::value>
      |                      ~~~~~~~~~~~~~~~~~~~~~~~~~~~~~~~~~~~~~~~~~~~~~~~~~~~~~~~~~~~~~^~~~~~~~~~~~~~~~~~~~~~~~~~~~~~~~~~~~~~~~~~~~~~~~~~~~~~~~~~~~~~~~~~~~~~~~
F:/biocbuild/bbs-3.16-bioc/R/library/RcppEigen/include/Eigen/src/Core/util/XprHelper.h:187:83: warning: ignoring attributes on template argument 'Eigen::internal::packet_traits<double>::type' {aka '__m128d'} [-Wignored-attributes]
F:/biocbuild/bbs-3.16-bioc/R/library/RcppEigen/include/Eigen/src/Core/util/XprHelper.h:187:83: warning: ignoring attributes on template argument 'Eigen::internal::unpacket_traits<__vector(2) double>::half' {aka '__m128d'} [-Wignored-attributes]
F:/biocbuild/bbs-3.16-bioc/R/library/RcppEigen/include/Eigen/src/Core/util/XprHelper.h:205:88: warning: ignoring attributes on template argument 'Eigen::internal::packet_traits<double>::type' {aka '__m128d'} [-Wignored-attributes]
  205 |   typedef typename find_best_packet_helper<Size,typename packet_traits<T>::type>::type type;
      |                                                                                        ^~~~
In file included from F:/biocbuild/bbs-3.16-bioc/R/library/RcppEigen/include/Eigen/Core:439,
                 from F:/biocbuild/bbs-3.16-bioc/R/library/RcppEigen/include/Eigen/Dense:1,
                 from F:/biocbuild/bbs-3.16-bioc/R/library/RcppEigen/include/RcppEigenForward.h:30,
                 from F:/biocbuild/bbs-3.16-bioc/R/library/RcppEigen/include/RcppEigen.h:25,
                 from RcppExports.cpp:5:
F:/biocbuild/bbs-3.16-bioc/R/library/RcppEigen/include/Eigen/src/Core/DenseCoeffsBase.h: In instantiation of 'class Eigen::DenseCoeffsBase<Eigen::Matrix<double, 4, 1>, 0>':
F:/biocbuild/bbs-3.16-bioc/R/library/RcppEigen/include/Eigen/src/Core/DenseCoeffsBase.h:300:7:   required from 'class Eigen::DenseCoeffsBase<Eigen::Matrix<double, 4, 1>, 1>'
F:/biocbuild/bbs-3.16-bioc/R/library/RcppEigen/include/Eigen/src/Core/DenseCoeffsBase.h:551:7:   required from 'class Eigen::DenseCoeffsBase<Eigen::Matrix<double, 4, 1>, 3>'
F:/biocbuild/bbs-3.16-bioc/R/library/RcppEigen/include/Eigen/src/Core/DenseBase.h:41:34:   required from 'class Eigen::DenseBase<Eigen::Matrix<double, 4, 1> >'
F:/biocbuild/bbs-3.16-bioc/R/library/RcppEigen/include/Eigen/src/Core/MatrixBase.h:48:34:   required from 'class Eigen::MatrixBase<Eigen::Matrix<double, 4, 1> >'
F:/biocbuild/bbs-3.16-bioc/R/library/RcppEigen/include/Eigen/src/Core/PlainObjectBase.h:98:7:   required from 'class Eigen::PlainObjectBase<Eigen::Matrix<double, 4, 1> >'
F:/biocbuild/bbs-3.16-bioc/R/library/RcppEigen/include/Eigen/src/Core/Matrix.h:178:7:   required from 'class Eigen::Matrix<double, 4, 1>'
F:/biocbuild/bbs-3.16-bioc/R/library/RcppEigen/include/Eigen/src/Geometry/Quaternion.h:46:50:   required from 'class Eigen::QuaternionBase<Eigen::Quaternion<double> >'
F:/biocbuild/bbs-3.16-bioc/R/library/RcppEigen/include/Eigen/src/Geometry/Quaternion.h:250:7:   required from 'class Eigen::Quaternion<double>'
F:/biocbuild/bbs-3.16-bioc/R/library/RcppEigen/include/Eigen/src/Geometry/arch/Geometry_SSE.h:92:3:   required from here
F:/biocbuild/bbs-3.16-bioc/R/library/RcppEigen/include/Eigen/src/Core/DenseCoeffsBase.h:55:30: warning: ignoring attributes on template argument 'Eigen::internal::packet_traits<double>::type' {aka '__m128d'} [-Wignored-attributes]
   55 |                      >::type PacketReturnType;
      |                              ^~~~~~~~~~~~~~~~
In file included from F:/biocbuild/bbs-3.16-bioc/R/library/RcppEigen/include/Eigen/SparseCore:37,
                 from F:/biocbuild/bbs-3.16-bioc/R/library/RcppEigen/include/Eigen/Sparse:26,
                 from F:/biocbuild/bbs-3.16-bioc/R/library/RcppEigen/include/RcppEigenForward.h:31,
                 from F:/biocbuild/bbs-3.16-bioc/R/library/RcppEigen/include/RcppEigen.h:25,
                 from RcppExports.cpp:5:
F:/biocbuild/bbs-3.16-bioc/R/library/RcppEigen/include/Eigen/src/SparseCore/SparseMatrixBase.h: In instantiation of 'class Eigen::SparseMatrixBase<Eigen::SparseMatrix<double, 0, int> >':
F:/biocbuild/bbs-3.16-bioc/R/library/RcppEigen/include/Eigen/src/SparseCore/SparseCompressedBase.h:36:7:   required from 'class Eigen::SparseCompressedBase<Eigen::SparseMatrix<double, 0, int> >'
F:/biocbuild/bbs-3.16-bioc/R/library/RcppEigen/include/Eigen/src/SparseCore/SparseMatrix.h:96:7:   required from 'class Eigen::SparseMatrix<double, 0, int>'
F:/biocbuild/bbs-3.16-bioc/R/library/RcppEigen/include/unsupported/Eigen/src/IterativeSolvers/ConstrainedConjGrad.h:61:25:   required from here
F:/biocbuild/bbs-3.16-bioc/R/library/RcppEigen/include/Eigen/src/SparseCore/SparseMatrixBase.h:47:30: warning: ignoring attributes on template argument 'Eigen::internal::packet_traits<double>::type' {aka '__m128d'} [-Wignored-attributes]
   47 |                      >::type PacketReturnType;
      |                              ^~~~~~~~~~~~~~~~
In file included from F:/biocbuild/bbs-3.16-bioc/R/library/RcppEigen/include/Eigen/Core:370,
                 from F:/biocbuild/bbs-3.16-bioc/R/library/RcppEigen/include/Eigen/Dense:1,
                 from F:/biocbuild/bbs-3.16-bioc/R/library/RcppEigen/include/RcppEigenForward.h:30,
                 from F:/biocbuild/bbs-3.16-bioc/R/library/RcppEigen/include/RcppEigen.h:25,
                 from RcppExports.cpp:5:
F:/biocbuild/bbs-3.16-bioc/R/library/RcppEigen/include/Eigen/src/Core/util/XprHelper.h: In instantiation of 'struct Eigen::internal::find_best_packet<int, -1>':
F:/biocbuild/bbs-3.16-bioc/R/library/RcppEigen/include/Eigen/src/Core/Matrix.h:22:57:   required from 'struct Eigen::internal::traits<Eigen::Matrix<int, -1, 1> >'
F:/biocbuild/bbs-3.16-bioc/R/library/RcppEigen/include/Eigen/src/Core/PlainObjectBase.h:98:7:   required from 'class Eigen::PlainObjectBase<Eigen::Matrix<int, -1, 1> >'
F:/biocbuild/bbs-3.16-bioc/R/library/RcppEigen/include/Eigen/src/Core/Matrix.h:178:7:   required from 'class Eigen::Matrix<int, -1, 1>'
F:/biocbuild/bbs-3.16-bioc/R/library/RcppEigen/include/unsupported/Eigen/src/KroneckerProduct/KroneckerTensorProduct.h:168:29:   required from here
F:/biocbuild/bbs-3.16-bioc/R/library/RcppEigen/include/Eigen/src/Core/util/XprHelper.h:187:44: warning: ignoring attributes on template argument 'Eigen::internal::packet_traits<int>::type' {aka '__m128i'} [-Wignored-attributes]
  187 |          bool Stop = Size==Dynamic || (Size%unpacket_traits<PacketType>::size)==0 || is_same<PacketType,typename unpacket_traits<PacketType>::half>::value>
      |                                       ~~~~~^~~~~~~~~~~~~~~~~~~~~~~~~~~~~~~~~~~
F:/biocbuild/bbs-3.16-bioc/R/library/RcppEigen/include/Eigen/src/Core/util/XprHelper.h:187:83: warning: ignoring attributes on template argument 'Eigen::internal::packet_traits<int>::type' {aka '__m128i'} [-Wignored-attributes]
  187 |          bool Stop = Size==Dynamic || (Size%unpacket_traits<PacketType>::size)==0 || is_same<PacketType,typename unpacket_traits<PacketType>::half>::value>
      |                      ~~~~~~~~~~~~~~~~~~~~~~~~~~~~~~~~~~~~~~~~~~~~~~~~~~~~~~~~~~~~~^~~~~~~~~~~~~~~~~~~~~~~~~~~~~~~~~~~~~~~~~~~~~~~~~~~~~~~~~~~~~~~~~~~~~~~~
F:/biocbuild/bbs-3.16-bioc/R/library/RcppEigen/include/Eigen/src/Core/util/XprHelper.h:187:83: warning: ignoring attributes on template argument 'Eigen::internal::packet_traits<int>::type' {aka '__m128i'} [-Wignored-attributes]
F:/biocbuild/bbs-3.16-bioc/R/library/RcppEigen/include/Eigen/src/Core/util/XprHelper.h:187:83: warning: ignoring attributes on template argument 'Eigen::internal::unpacket_traits<__vector(2) long long int>::half' {aka '__m128i'} [-Wignored-attributes]
F:/biocbuild/bbs-3.16-bioc/R/library/RcppEigen/include/Eigen/src/Core/util/XprHelper.h:205:88: warning: ignoring attributes on template argument 'Eigen::internal::packet_traits<int>::type' {aka '__m128i'} [-Wignored-attributes]
  205 |   typedef typename find_best_packet_helper<Size,typename packet_traits<T>::type>::type type;
      |                                                                                        ^~~~
In file included from F:/biocbuild/bbs-3.16-bioc/R/library/RcppEigen/include/Eigen/Core:439,
                 from F:/biocbuild/bbs-3.16-bioc/R/library/RcppEigen/include/Eigen/Dense:1,
                 from F:/biocbuild/bbs-3.16-bioc/R/library/RcppEigen/include/RcppEigenForward.h:30,
                 from F:/biocbuild/bbs-3.16-bioc/R/library/RcppEigen/include/RcppEigen.h:25,
                 from RcppExports.cpp:5:
F:/biocbuild/bbs-3.16-bioc/R/library/RcppEigen/include/Eigen/src/Core/DenseCoeffsBase.h: In instantiation of 'class Eigen::DenseCoeffsBase<Eigen::Matrix<int, -1, 1>, 0>':
F:/biocbuild/bbs-3.16-bioc/R/library/RcppEigen/include/Eigen/src/Core/DenseCoeffsBase.h:300:7:   required from 'class Eigen::DenseCoeffsBase<Eigen::Matrix<int, -1, 1>, 1>'
F:/biocbuild/bbs-3.16-bioc/R/library/RcppEigen/include/Eigen/src/Core/DenseCoeffsBase.h:551:7:   required from 'class Eigen::DenseCoeffsBase<Eigen::Matrix<int, -1, 1>, 3>'
F:/biocbuild/bbs-3.16-bioc/R/library/RcppEigen/include/Eigen/src/Core/DenseBase.h:41:34:   required from 'class Eigen::DenseBase<Eigen::Matrix<int, -1, 1> >'
F:/biocbuild/bbs-3.16-bioc/R/library/RcppEigen/include/Eigen/src/Core/MatrixBase.h:48:34:   required from 'class Eigen::MatrixBase<Eigen::Matrix<int, -1, 1> >'
F:/biocbuild/bbs-3.16-bioc/R/library/RcppEigen/include/Eigen/src/Core/PlainObjectBase.h:98:7:   required from 'class Eigen::PlainObjectBase<Eigen::Matrix<int, -1, 1> >'
F:/biocbuild/bbs-3.16-bioc/R/library/RcppEigen/include/Eigen/src/Core/Matrix.h:178:7:   required from 'class Eigen::Matrix<int, -1, 1>'
F:/biocbuild/bbs-3.16-bioc/R/library/RcppEigen/include/unsupported/Eigen/src/KroneckerProduct/KroneckerTensorProduct.h:168:29:   required from here
F:/biocbuild/bbs-3.16-bioc/R/library/RcppEigen/include/Eigen/src/Core/DenseCoeffsBase.h:55:30: warning: ignoring attributes on template argument 'Eigen::internal::packet_traits<int>::type' {aka '__m128i'} [-Wignored-attributes]
   55 |                      >::type PacketReturnType;
      |                              ^~~~~~~~~~~~~~~~
F:/biocbuild/bbs-3.16-bioc/R/library/RcppEigen/include/Eigen/src/Core/DenseCoeffsBase.h: In instantiation of 'class Eigen::DenseCoeffsBase<Eigen::Transpose<Eigen::Matrix<int, -1, 1> >, 0>':
F:/biocbuild/bbs-3.16-bioc/R/library/RcppEigen/include/Eigen/src/Core/DenseCoeffsBase.h:300:7:   required from 'class Eigen::DenseCoeffsBase<Eigen::Transpose<Eigen::Matrix<int, -1, 1> >, 1>'
F:/biocbuild/bbs-3.16-bioc/R/library/RcppEigen/include/Eigen/src/Core/DenseCoeffsBase.h:551:7:   required from 'class Eigen::DenseCoeffsBase<Eigen::Transpose<Eigen::Matrix<int, -1, 1> >, 3>'
F:/biocbuild/bbs-3.16-bioc/R/library/RcppEigen/include/Eigen/src/Core/DenseBase.h:41:34:   required from 'class Eigen::DenseBase<Eigen::Transpose<Eigen::Matrix<int, -1, 1> > >'
F:/biocbuild/bbs-3.16-bioc/R/library/RcppEigen/include/Eigen/src/Core/MatrixBase.h:48:34:   required from 'class Eigen::MatrixBase<Eigen::Transpose<Eigen::Matrix<int, -1, 1> > >'
F:/biocbuild/bbs-3.16-bioc/R/library/RcppEigen/include/Eigen/src/Core/Transpose.h:115:37:   required from 'class Eigen::TransposeImpl<Eigen::Matrix<int, -1, 1>, Eigen::Dense>'
F:/biocbuild/bbs-3.16-bioc/R/library/RcppEigen/include/Eigen/src/Core/Transpose.h:52:37:   required from 'class Eigen::Transpose<Eigen::Matrix<int, -1, 1> >'
F:/biocbuild/bbs-3.16-bioc/R/library/RcppEigen/include/unsupported/Eigen/src/KroneckerProduct/KroneckerTensorProduct.h:178:72:   required from here
F:/biocbuild/bbs-3.16-bioc/R/library/RcppEigen/include/Eigen/src/Core/DenseCoeffsBase.h:55:30: warning: ignoring attributes on template argument 'Eigen::internal::packet_traits<int>::type' {aka '__m128i'} [-Wignored-attributes]
F:/biocbuild/bbs-3.16-bioc/R/library/RcppEigen/include/Eigen/src/Core/DenseCoeffsBase.h: In instantiation of 'class Eigen::DenseCoeffsBase<Eigen::Matrix<int, -1, -1>, 0>':
F:/biocbuild/bbs-3.16-bioc/R/library/RcppEigen/include/Eigen/src/Core/DenseCoeffsBase.h:300:7:   required from 'class Eigen::DenseCoeffsBase<Eigen::Matrix<int, -1, -1>, 1>'
F:/biocbuild/bbs-3.16-bioc/R/library/RcppEigen/include/Eigen/src/Core/DenseCoeffsBase.h:551:7:   required from 'class Eigen::DenseCoeffsBase<Eigen::Matrix<int, -1, -1>, 3>'
F:/biocbuild/bbs-3.16-bioc/R/library/RcppEigen/include/Eigen/src/Core/DenseBase.h:41:34:   required from 'class Eigen::DenseBase<Eigen::Matrix<int, -1, -1> >'
F:/biocbuild/bbs-3.16-bioc/R/library/RcppEigen/include/Eigen/src/Core/MatrixBase.h:48:34:   required from 'class Eigen::MatrixBase<Eigen::Matrix<int, -1, -1> >'
F:/biocbuild/bbs-3.16-bioc/R/library/RcppEigen/include/Eigen/src/Core/PlainObjectBase.h:98:7:   required from 'class Eigen::PlainObjectBase<Eigen::Matrix<int, -1, -1> >'
F:/biocbuild/bbs-3.16-bioc/R/library/RcppEigen/include/Eigen/src/Core/Matrix.h:178:7:   required from 'class Eigen::Matrix<int, -1, -1>'
F:/biocbuild/bbs-3.16-bioc/R/library/RcppEigen/include/unsupported/Eigen/src/KroneckerProduct/KroneckerTensorProduct.h:179:36:   required from here
F:/biocbuild/bbs-3.16-bioc/R/library/RcppEigen/include/Eigen/src/Core/DenseCoeffsBase.h:55:30: warning: ignoring attributes on template argument 'Eigen::internal::packet_traits<int>::type' {aka '__m128i'} [-Wignored-attributes]
g++ -std=gnu++14 -shared -s -static-libgcc -o BDMMAcorrect.dll tmp.def MCMC_algorithm.o RcppExports.o -LF:/biocbuild/bbs-3.16-bioc/R/bin/x64 -lRlapack -LF:/biocbuild/bbs-3.16-bioc/R/bin/x64 -lRblas -lgfortran -lm -lquadmath -O2 -msse2 -mfpmath=sse -LC:/rtools42/x86_64-w64-mingw32.static.posix/lib/x64 -LC:/rtools42/x86_64-w64-mingw32.static.posix/lib -LF:/biocbuild/bbs-3.16-bioc/R/bin/x64 -lR
installing to F:/biocbuild/bbs-3.16-bioc/R/library/00LOCK-BDMMAcorrect/00new/BDMMAcorrect/libs/x64
** R
** data
*** moving datasets to lazyload DB
** inst
** byte-compile and prepare package for lazy loading
** help
*** installing help indices
** building package indices
** installing vignettes
** testing if installed package can be loaded from temporary location
** testing if installed package can be loaded from final location
** testing if installed package keeps a record of temporary installation path
* DONE (BDMMAcorrect)