Name | Last modified | Size | Description | |
---|---|---|---|---|
Parent Directory | - | |||
buildbin-out.txt | 17-Jul-2024 06:39 | 7.4M | ||
install-out.txt | 17-Jul-2024 06:39 | 7.4M | ||
checksrc-out.txt | 17-Jul-2024 06:39 | 4.6K | ||
buildsrc-out.txt | 17-Jul-2024 06:39 | 961 | ||
buildbin-summary.dcf | 17-Jul-2024 06:39 | 525 | ||
buildsrc-summary.dcf | 17-Jul-2024 06:39 | 459 | ||
checksrc-summary.dcf | 17-Jul-2024 06:39 | 453 | ||
install-summary.dcf | 17-Jul-2024 06:39 | 272 | ||