Name | Last modified | Size | Description | |
---|---|---|---|---|
Parent Directory | - | |||
install-summary.dcf | 17-Jul-2024 06:38 | 263 | ||
install-out.txt | 17-Jul-2024 06:38 | 8.1M | ||
checksrc-summary.dcf | 17-Jul-2024 06:38 | 420 | ||
checksrc-out.txt | 17-Jul-2024 06:38 | 4.1K | ||
buildsrc-summary.dcf | 17-Jul-2024 06:38 | 422 | ||
buildsrc-out.txt | 17-Jul-2024 06:38 | 843 | ||