Name | Last modified | Size | Description | |
---|---|---|---|---|
Parent Directory | - | |||
buildbin-summary.dcf | 17-Jul-2024 06:40 | 540 | ||
buildbin-out.txt | 17-Jul-2024 06:40 | 25K | ||
checksrc-summary.dcf | 17-Jul-2024 06:40 | 450 | ||
checksrc-out.txt | 17-Jul-2024 06:40 | 4.2K | ||
buildsrc-summary.dcf | 17-Jul-2024 06:40 | 432 | ||
buildsrc-out.txt | 17-Jul-2024 06:40 | 853 | ||
install-summary.dcf | 17-Jul-2024 06:40 | 273 | ||
install-out.txt | 17-Jul-2024 06:40 | 22K | ||