Name | Last modified | Size | Description | |
---|---|---|---|---|
Parent Directory | - | |||
install-summary.dcf | 12-Jun-2024 03:43 | 273 | ||
buildsrc-summary.dcf | 12-Jun-2024 03:43 | 431 | ||
checksrc-summary.dcf | 12-Jun-2024 03:43 | 450 | ||
buildbin-summary.dcf | 12-Jun-2024 03:43 | 539 | ||
buildsrc-out.txt | 12-Jun-2024 03:43 | 853 | ||
checksrc-out.txt | 12-Jun-2024 03:43 | 4.1K | ||
install-out.txt | 12-Jun-2024 03:43 | 34K | ||
buildbin-out.txt | 12-Jun-2024 03:43 | 36K | ||