Name | Last modified | Size | Description | |
---|---|---|---|---|
Parent Directory | - | |||
buildbin-out.txt | 17-Jul-2024 06:42 | 36K | ||
buildbin-summary.dcf | 17-Jul-2024 06:42 | 539 | ||
buildsrc-out.txt | 17-Jul-2024 06:42 | 853 | ||
buildsrc-summary.dcf | 17-Jul-2024 06:42 | 432 | ||
checksrc-out.txt | 17-Jul-2024 06:42 | 4.1K | ||
checksrc-summary.dcf | 17-Jul-2024 06:42 | 450 | ||
install-out.txt | 17-Jul-2024 06:42 | 34K | ||
install-summary.dcf | 17-Jul-2024 06:42 | 273 | ||