Name | Last modified | Size | Description | |
---|---|---|---|---|
Parent Directory | - | |||
buildbin-out.txt | 05-May-2024 00:38 | 6.0K | ||
buildbin-summary.dcf | 05-May-2024 00:38 | 525 | ||
buildsrc-out.txt | 05-May-2024 00:38 | 905 | ||
buildsrc-summary.dcf | 05-May-2024 00:38 | 425 | ||
checksrc-out.txt | 05-May-2024 00:38 | 4.3K | ||
checksrc-summary.dcf | 05-May-2024 00:38 | 440 | ||
install-out.txt | 05-May-2024 00:38 | 2.5K | ||
install-summary.dcf | 05-May-2024 00:38 | 267 | ||