Name | Last modified | Size | Description | |
---|---|---|---|---|
Parent Directory | - | |||
buildbin-out.txt | 29-Jun-2024 06:41 | 9.6K | ||
buildbin-summary.dcf | 29-Jun-2024 06:41 | 496 | ||
buildsrc-out.txt | 29-Jun-2024 06:41 | 916 | ||
buildsrc-summary.dcf | 29-Jun-2024 06:41 | 440 | ||
checksrc-out.txt | 29-Jun-2024 06:41 | 4.3K | ||
checksrc-summary.dcf | 29-Jun-2024 06:41 | 434 | ||
install-out.txt | 29-Jun-2024 06:41 | 9.5K | ||
install-summary.dcf | 29-Jun-2024 06:41 | 262 | ||