Name | Last modified | Size | Description | |
---|---|---|---|---|
Parent Directory | - | |||
install-out.txt | 10-May-2024 00:40 | 9.6K | ||
install-summary.dcf | 10-May-2024 00:40 | 263 | ||
buildsrc-out.txt | 10-May-2024 00:40 | 898 | ||
buildsrc-summary.dcf | 10-May-2024 00:40 | 419 | ||
checksrc-out.txt | 10-May-2024 00:40 | 3.8K | ||
checksrc-summary.dcf | 10-May-2024 00:40 | 438 | ||