Index of /checkResults/release/bioc-LATEST/Autotuner/raw-results/riesling1

[ICO]NameLast modifiedSizeDescription

[DIR]Parent Directory  -  
[TXT]buildsrc-out.txt19-Mar-2022 00:06 1.2K 
[   ]buildsrc-summary.dcf19-Mar-2022 00:06 373  
[TXT]install-out.txt19-Mar-2022 00:06 3.5K 
[   ]install-summary.dcf19-Mar-2022 00:06 271