Index of /checkResults/release/bioc-LATEST/Autotuner/raw-results/palomino3
Name
Last modified
Size
Description
Parent Directory
-
buildsrc-out.txt
02-Jul-2022 01:06
1.2K
buildsrc-summary.dcf
02-Jul-2022 01:06
374
install-out.txt
02-Jul-2022 01:06
1.2K
install-summary.dcf
02-Jul-2022 01:06
272