Index of /checkResults/release/bioc-LATEST/Autotuner/raw-results/nebbiolo1
Name
Last modified
Size
Description
Parent Directory
-
buildsrc-out.txt
02-Jul-2022 01:05
1.1K
buildsrc-summary.dcf
02-Jul-2022 01:05
337
install-out.txt
02-Jul-2022 01:05
1.2K
install-summary.dcf
02-Jul-2022 01:05
263