Index of /checkResults/release/bioc-LATEST/Autotuner/raw-results/merida1

[ICO]NameLast modifiedSizeDescription

[DIR]Parent Directory  -  
[TXT]buildsrc-out.txt02-Jul-2022 01:07 1.1K 
[   ]buildsrc-summary.dcf02-Jul-2022 01:07 347  
[TXT]install-out.txt02-Jul-2022 01:07 1.2K 
[   ]install-summary.dcf02-Jul-2022 01:07 273