Back to Multiple platform build/check report for BioC 3.14
[A]BCDEFGHIJKLMNOPQRSTUVWXYZ

This page was generated on 2021-11-29 15:05:13 -0500 (Mon, 29 Nov 2021).

BUILD BIN results for AnnotationHubData on tokay2

To the developers/maintainers of the AnnotationHubData package:
- Please allow up to 24 hours (and sometimes 48 hours) for your latest push to git@git.bioconductor.org:packages/AnnotationHubData.git to
reflect on this report. See How and When does the builder pull? When will my changes propagate? here for more information.
- Make sure to use the following settings in order to reproduce any error or warning you see on this page.

raw results

Package 64/2083HostnameOS / ArchINSTALLBUILDCHECKBUILD BIN
AnnotationHubData 1.24.1  (landing page)
Bioconductor Package Maintainer
Snapshot Date: 2021-11-28 04:15:06 -0500 (Sun, 28 Nov 2021)
git_url: https://git.bioconductor.org/packages/AnnotationHubData
git_branch: RELEASE_3_14
git_last_commit: c665598
git_last_commit_date: 2021-11-24 12:54:20 -0500 (Wed, 24 Nov 2021)
nebbiolo2Linux (Ubuntu 20.04.3 LTS) / x86_64  OK    OK    WARNINGS  UNNEEDED, same version is already published
tokay2Windows Server 2012 R2 Standard / x64  OK    OK    WARNINGS    OK  UNNEEDED, same version is already published
machv2macOS 10.14.6 Mojave / x86_64  OK    OK    WARNINGS    OK  UNNEEDED, same version is already published

Summary

Package: AnnotationHubData
Version: 1.24.1
Command: rm -rf AnnotationHubData.buildbin-libdir && mkdir AnnotationHubData.buildbin-libdir && C:\Users\biocbuild\bbs-3.14-bioc\R\bin\R.exe CMD INSTALL --merge-multiarch --build --library=AnnotationHubData.buildbin-libdir AnnotationHubData_1.24.1.tar.gz
StartedAt: 2021-11-29 07:47:19 -0500 (Mon, 29 Nov 2021)
EndedAt: 2021-11-29 07:48:42 -0500 (Mon, 29 Nov 2021)
EllapsedTime: 83.6 seconds
RetCode: 0
Status:   OK  
PackageFile: AnnotationHubData_1.24.1.zip
PackageFileSize: 933.1 KiB

Command output

##############################################################################
##############################################################################
###
### Running command:
###
###   rm -rf AnnotationHubData.buildbin-libdir && mkdir AnnotationHubData.buildbin-libdir && C:\Users\biocbuild\bbs-3.14-bioc\R\bin\R.exe CMD INSTALL --merge-multiarch --build --library=AnnotationHubData.buildbin-libdir AnnotationHubData_1.24.1.tar.gz
###
##############################################################################
##############################################################################



install for i386

* installing *source* package 'AnnotationHubData' ...
** using staged installation
** R
** inst
** byte-compile and prepare package for lazy loading
** help
*** installing help indices
  converting help for package 'AnnotationHubData'
    finding HTML links ... done
    AnnotationHubData-package               html  
    AnnotationHubMetadata-class             html  
    ImportPreparer-class                    html  
    flog                                    html  
    makeAnnotationHubMetadata               html  
    makeEnsemblFasta                        html  
    makeGencodeFasta                        html  
    makeStandardOrgDbs                      html  
    updateResources                         html  
    upload_to_S3                            html  
    validationFunctions                     html  
** building package indices
** installing vignettes
** testing if installed package can be loaded from temporary location
** testing if installed package can be loaded from final location
** testing if installed package keeps a record of temporary installation path

install for x64

* installing *source* package 'AnnotationHubData' ...
** testing if installed package can be loaded
* MD5 sums
packaged installation of 'AnnotationHubData' as AnnotationHubData_1.24.1.zip
* DONE (AnnotationHubData)