Back to Multiple platform build/check report for BioC 3.14
[A]BCDEFGHIJKLMNOPQRSTUVWXYZ

This page was generated on 2021-12-03 13:05:06 -0500 (Fri, 03 Dec 2021).

INSTALL results for AnnotationHub on tokay2

To the developers/maintainers of the AnnotationHub package:
- Please allow up to 24 hours (and sometimes 48 hours) for your latest push to git@git.bioconductor.org:packages/AnnotationHub.git to
reflect on this report. See How and When does the builder pull? When will my changes propagate? here for more information.
- Make sure to use the following settings in order to reproduce any error or warning you see on this page.

raw results

Package 63/2083HostnameOS / ArchINSTALLBUILDCHECKBUILD BIN
AnnotationHub 3.2.0  (landing page)
Bioconductor Package Maintainer
Snapshot Date: 2021-12-02 01:55:06 -0500 (Thu, 02 Dec 2021)
git_url: https://git.bioconductor.org/packages/AnnotationHub
git_branch: RELEASE_3_14
git_last_commit: 873fb33
git_last_commit_date: 2021-10-26 12:07:32 -0500 (Tue, 26 Oct 2021)
nebbiolo2Linux (Ubuntu 20.04.3 LTS) / x86_64  OK    OK    WARNINGS  UNNEEDED, same version is already published
tokay2Windows Server 2012 R2 Standard / x64  OK    OK    WARNINGS    OK  UNNEEDED, same version is already published
machv2macOS 10.14.6 Mojave / x86_64  OK    OK    WARNINGS    OK  UNNEEDED, same version is already published

Summary

Package: AnnotationHub
Version: 3.2.0
Command: C:\cygwin\bin\curl.exe -O http://155.52.207.166/BBS/3.14/bioc/src/contrib/AnnotationHub_3.2.0.tar.gz && rm -rf AnnotationHub.buildbin-libdir && mkdir AnnotationHub.buildbin-libdir && C:\Users\biocbuild\bbs-3.14-bioc\R\bin\R.exe CMD INSTALL --merge-multiarch --build --library=AnnotationHub.buildbin-libdir AnnotationHub_3.2.0.tar.gz && C:\Users\biocbuild\bbs-3.14-bioc\R\bin\R.exe CMD INSTALL AnnotationHub_3.2.0.zip && rm AnnotationHub_3.2.0.tar.gz AnnotationHub_3.2.0.zip
StartedAt: 2021-12-02 05:23:43 -0500 (Thu, 02 Dec 2021)
EndedAt: 2021-12-02 05:24:40 -0500 (Thu, 02 Dec 2021)
EllapsedTime: 57.3 seconds
RetCode: 0
Status:   OK  

Command output

##############################################################################
##############################################################################
###
### Running command:
###
###   C:\cygwin\bin\curl.exe -O http://155.52.207.166/BBS/3.14/bioc/src/contrib/AnnotationHub_3.2.0.tar.gz && rm -rf AnnotationHub.buildbin-libdir && mkdir AnnotationHub.buildbin-libdir && C:\Users\biocbuild\bbs-3.14-bioc\R\bin\R.exe CMD INSTALL --merge-multiarch --build --library=AnnotationHub.buildbin-libdir AnnotationHub_3.2.0.tar.gz && C:\Users\biocbuild\bbs-3.14-bioc\R\bin\R.exe CMD INSTALL AnnotationHub_3.2.0.zip && rm AnnotationHub_3.2.0.tar.gz AnnotationHub_3.2.0.zip
###
##############################################################################
##############################################################################


  % Total    % Received % Xferd  Average Speed   Time    Time     Time  Current
                                 Dload  Upload   Total   Spent    Left  Speed

  0     0    0     0    0     0      0      0 --:--:-- --:--:-- --:--:--     0
  1  208k    1  2489    0     0  30838      0  0:00:06 --:--:--  0:00:06 30728
100  208k  100  208k    0     0   371k      0 --:--:-- --:--:-- --:--:--  370k

install for i386

* installing *source* package 'AnnotationHub' ...
** using staged installation
** R
** inst
** byte-compile and prepare package for lazy loading
** help
*** installing help indices
  converting help for package 'AnnotationHub'
    finding HTML links ... done
    AnnotationHub-class                     html  
    AnnotationHub-package                   html  
    AnnotationHubResource-class             html  
    Hub-utils                               html  
    convertHub                              html  
    getAnnotationHubOption                  html  
    listResources                           html  
    utils                                   html  
** building package indices
** installing vignettes
** testing if installed package can be loaded from temporary location
** testing if installed package can be loaded from final location
** testing if installed package keeps a record of temporary installation path

install for x64

* installing *source* package 'AnnotationHub' ...
** testing if installed package can be loaded
* MD5 sums
packaged installation of 'AnnotationHub' as AnnotationHub_3.2.0.zip
* DONE (AnnotationHub)
* installing to library 'C:/Users/biocbuild/bbs-3.14-bioc/R/library'
package 'AnnotationHub' successfully unpacked and MD5 sums checked