Index of /checkResults/release/bioc-LATEST/AnnotationHub/raw-results/tokay2

[ICO]NameLast modifiedSizeDescription

[DIR]Parent Directory  -  
[TXT]buildbin-out.txt27-Jan-2022 03:06 1.8K 
[   ]buildbin-summary.dcf27-Jan-2022 03:06 572  
[TXT]buildsrc-out.txt27-Jan-2022 03:06 874  
[   ]buildsrc-summary.dcf27-Jan-2022 03:06 481  
[TXT]checksrc-out.txt27-Jan-2022 03:06 4.2K 
[   ]checksrc-summary.dcf27-Jan-2022 03:06 490  
[TXT]install-out.txt27-Jan-2022 03:06 2.5K 
[   ]install-summary.dcf27-Jan-2022 03:06 688