Index of /checkResults/release/bioc-LATEST/AnnotationHub/raw-results/nebbiolo2

[ICO]NameLast modifiedSizeDescription

[DIR]Parent Directory  -  
[TXT]buildsrc-out.txt27-Jan-2022 03:05 829  
[   ]buildsrc-summary.dcf27-Jan-2022 03:05 434  
[TXT]checksrc-out.txt27-Jan-2022 03:05 3.5K 
[   ]checksrc-summary.dcf27-Jan-2022 03:05 452  
[TXT]install-out.txt27-Jan-2022 03:05 965  
[   ]install-summary.dcf27-Jan-2022 03:05 270