Back to Multiple platform build/check report for BioC 3.12
[A]BCDEFGHIJKLMNOPQRSTUVWXYZ

BUILD report for AnnotationFuncs on tokay1

This page was generated on 2021-02-22 12:36:57 -0500 (Mon, 22 Feb 2021).

To the developers/maintainers of the AnnotationFuncs package:
Please make sure to use the following settings in order to reproduce any error or warning you see on this page.
Package 65/1974HostnameOS / ArchINSTALLBUILDCHECKBUILD BIN
AnnotationFuncs 1.40.0
Stefan McKinnon Edwards
Snapshot Date: 2021-02-21 14:52:07 -0500 (Sun, 21 Feb 2021)
URL: https://git.bioconductor.org/packages/AnnotationFuncs
Branch: RELEASE_3_12
Last Commit: 90cc52b
Last Changed Date: 2020-10-27 10:40:41 -0500 (Tue, 27 Oct 2020)
malbec1Linux (Ubuntu 18.04.5 LTS) / x86_64  OK    OK    OK  UNNEEDED, same version exists in internal repository
nebbiolo1Linux (Ubuntu 20.04.2 LTS) / x86_64  OK    OK    OK  
tokay1Windows Server 2012 R2 Standard / x64  OK    OK    OK    OK  UNNEEDED, same version exists in internal repository
merida1macOS 10.14.6 Mojave / x86_64  OK    OK    OK    OK  UNNEEDED, same version exists in internal repository

Summary

Package: AnnotationFuncs
Version: 1.40.0
Command: chmod a+r AnnotationFuncs -R && C:\Users\biocbuild\bbs-3.12-bioc\R\bin\R.exe CMD build --keep-empty-dirs --no-resave-data AnnotationFuncs
StartedAt: 2021-02-21 19:35:31 -0500 (Sun, 21 Feb 2021)
EndedAt: 2021-02-21 19:36:18 -0500 (Sun, 21 Feb 2021)
EllapsedTime: 47.6 seconds
RetCode: 0
Status:   OK   
PackageFile: AnnotationFuncs_1.40.0.tar.gz
PackageFileSize: 219 KiB

Command output

##############################################################################
##############################################################################
###
### Running command:
###
###   chmod a+r AnnotationFuncs -R && C:\Users\biocbuild\bbs-3.12-bioc\R\bin\R.exe CMD build --keep-empty-dirs --no-resave-data AnnotationFuncs
###
##############################################################################
##############################################################################


* checking for file 'AnnotationFuncs/DESCRIPTION' ... OK
* preparing 'AnnotationFuncs':
* checking DESCRIPTION meta-information ... OK
* installing the package to build vignettes
* creating vignettes ... OK
* checking for LF line-endings in source and make files and shell scripts
* checking for empty or unneeded directories
* building 'AnnotationFuncs_1.40.0.tar.gz'