Back to Multiple platform build/check report for BioC 3.12
[A]BCDEFGHIJKLMNOPQRSTUVWXYZ

BUILD BIN report for AnnotationFuncs on tokay1

This page was generated on 2021-02-22 12:36:57 -0500 (Mon, 22 Feb 2021).

To the developers/maintainers of the AnnotationFuncs package:
Please make sure to use the following settings in order to reproduce any error or warning you see on this page.
Package 65/1974HostnameOS / ArchINSTALLBUILDCHECKBUILD BIN
AnnotationFuncs 1.40.0
Stefan McKinnon Edwards
Snapshot Date: 2021-02-21 14:52:07 -0500 (Sun, 21 Feb 2021)
URL: https://git.bioconductor.org/packages/AnnotationFuncs
Branch: RELEASE_3_12
Last Commit: 90cc52b
Last Changed Date: 2020-10-27 10:40:41 -0500 (Tue, 27 Oct 2020)
malbec1Linux (Ubuntu 18.04.5 LTS) / x86_64  OK    OK    OK  UNNEEDED, same version exists in internal repository
nebbiolo1Linux (Ubuntu 20.04.2 LTS) / x86_64  OK    OK    OK  
tokay1Windows Server 2012 R2 Standard / x64  OK    OK    OK    OK  UNNEEDED, same version exists in internal repository
merida1macOS 10.14.6 Mojave / x86_64  OK    OK    OK    OK  UNNEEDED, same version exists in internal repository

Summary

Package: AnnotationFuncs
Version: 1.40.0
Command: rm -rf AnnotationFuncs.buildbin-libdir && mkdir AnnotationFuncs.buildbin-libdir && C:\Users\biocbuild\bbs-3.12-bioc\R\bin\R.exe CMD INSTALL --merge-multiarch --build --library=AnnotationFuncs.buildbin-libdir AnnotationFuncs_1.40.0.tar.gz
StartedAt: 2021-02-22 08:33:42 -0500 (Mon, 22 Feb 2021)
EndedAt: 2021-02-22 08:34:34 -0500 (Mon, 22 Feb 2021)
EllapsedTime: 51.4 seconds
RetCode: 0
Status:   OK   
PackageFile: AnnotationFuncs_1.40.0.zip
PackageFileSize: 266 KiB

Command output

##############################################################################
##############################################################################
###
### Running command:
###
###   rm -rf AnnotationFuncs.buildbin-libdir && mkdir AnnotationFuncs.buildbin-libdir && C:\Users\biocbuild\bbs-3.12-bioc\R\bin\R.exe CMD INSTALL --merge-multiarch --build --library=AnnotationFuncs.buildbin-libdir AnnotationFuncs_1.40.0.tar.gz
###
##############################################################################
##############################################################################



install for i386

* installing *source* package 'AnnotationFuncs' ...
** using staged installation
** R
** inst
** byte-compile and prepare package for lazy loading
** help
*** installing help indices
  converting help for package 'AnnotationFuncs'
    finding HTML links ... done
    AnnotationFuncs-package                 html  
    dbEscapeString2                         html  
    getEvidenceCodes                        html  
    getOrthologs                            html  
    getTableName2                           html  
    mapLists                                html  
    pickGO                                  html  
    pickRef2                                html  
    pickRefSeq                              html  
    removeNAs                               html  
    translate                               html  
** building package indices
** installing vignettes
** testing if installed package can be loaded from temporary location
** testing if installed package can be loaded from final location
** testing if installed package keeps a record of temporary installation path

install for x64

* installing *source* package 'AnnotationFuncs' ...
** testing if installed package can be loaded
* MD5 sums
packaged installation of 'AnnotationFuncs' as AnnotationFuncs_1.40.0.zip
* DONE (AnnotationFuncs)