Back to Multiple platform build/check report for BioC 3.12
[A]BCDEFGHIJKLMNOPQRSTUVWXYZ

INSTALL report for AnnotationFuncs on merida1

This page was generated on 2021-02-22 12:41:40 -0500 (Mon, 22 Feb 2021).

To the developers/maintainers of the AnnotationFuncs package:
Please make sure to use the following settings in order to reproduce any error or warning you see on this page.
Package 65/1974HostnameOS / ArchINSTALLBUILDCHECKBUILD BIN
AnnotationFuncs 1.40.0
Stefan McKinnon Edwards
Snapshot Date: 2021-02-21 14:52:07 -0500 (Sun, 21 Feb 2021)
URL: https://git.bioconductor.org/packages/AnnotationFuncs
Branch: RELEASE_3_12
Last Commit: 90cc52b
Last Changed Date: 2020-10-27 10:40:41 -0500 (Tue, 27 Oct 2020)
malbec1Linux (Ubuntu 18.04.5 LTS) / x86_64  OK    OK    OK  UNNEEDED, same version exists in internal repository
nebbiolo1Linux (Ubuntu 20.04.2 LTS) / x86_64  OK    OK    OK  
tokay1Windows Server 2012 R2 Standard / x64  OK    OK    OK    OK  UNNEEDED, same version exists in internal repository
merida1macOS 10.14.6 Mojave / x86_64  OK    OK    OK    OK  UNNEEDED, same version exists in internal repository

Summary

Package: AnnotationFuncs
Version: 1.40.0
Command: /Library/Frameworks/R.framework/Versions/Current/Resources/bin/R CMD INSTALL AnnotationFuncs
StartedAt: 2021-02-21 16:34:52 -0500 (Sun, 21 Feb 2021)
EndedAt: 2021-02-21 16:35:32 -0500 (Sun, 21 Feb 2021)
EllapsedTime: 40.0 seconds
RetCode: 0
Status:   OK  

Command output

##############################################################################
##############################################################################
###
### Running command:
###
###   /Library/Frameworks/R.framework/Versions/Current/Resources/bin/R CMD INSTALL AnnotationFuncs
###
##############################################################################
##############################################################################


* installing to library ‘/Library/Frameworks/R.framework/Versions/4.0/Resources/library’
* installing *source* package ‘AnnotationFuncs’ ...
** using staged installation
** R
** inst
** byte-compile and prepare package for lazy loading
** help
*** installing help indices
** building package indices
** installing vignettes
** testing if installed package can be loaded from temporary location
** testing if installed package can be loaded from final location
** testing if installed package keeps a record of temporary installation path
* DONE (AnnotationFuncs)