Name | Last modified | Size | Description | |
---|---|---|---|---|
Parent Directory | - | |||
buildbin-out.txt | 29-Jun-2024 06:41 | 1.1K | ||
buildbin-summary.dcf | 29-Jun-2024 06:41 | 548 | ||
buildsrc-out.txt | 29-Jun-2024 06:41 | 905 | ||
buildsrc-summary.dcf | 29-Jun-2024 06:41 | 474 | ||
checksrc-out.txt | 29-Jun-2024 06:41 | 7.1K | ||
checksrc-summary.dcf | 29-Jun-2024 06:41 | 474 | ||
install-out.txt | 29-Jun-2024 06:41 | 1.0K | ||
install-summary.dcf | 29-Jun-2024 06:41 | 279 | ||