Name | Last modified | Size | Description | |
---|---|---|---|---|
Parent Directory | - | |||
install-summary.dcf | 17-Jul-2024 06:38 | 269 | ||
buildsrc-summary.dcf | 17-Jul-2024 06:38 | 432 | ||
checksrc-summary.dcf | 17-Jul-2024 06:38 | 441 | ||
buildsrc-out.txt | 17-Jul-2024 06:38 | 869 | ||
install-out.txt | 17-Jul-2024 06:38 | 970 | ||
checksrc-out.txt | 17-Jul-2024 06:38 | 7.0K | ||