Name | Last modified | Size | Description | |
---|---|---|---|---|
Parent Directory | - | |||
install-summary.dcf | 24-Jul-2024 22:03 | 258 | ||
checksrc-summary.dcf | 24-Jul-2024 22:03 | 412 | ||
buildsrc-summary.dcf | 24-Jul-2024 22:03 | 416 | ||
buildsrc-out.txt | 24-Jul-2024 22:03 | 868 | ||
install-out.txt | 24-Jul-2024 22:03 | 1.0K | ||
checksrc-out.txt | 24-Jul-2024 22:03 | 3.5K | ||