Name | Last modified | Size | Description | |
---|---|---|---|---|
Parent Directory | - | |||
buildbin-out.txt | 27-Jul-2024 06:41 | 1.2K | ||
buildbin-summary.dcf | 27-Jul-2024 06:41 | 527 | ||
buildsrc-out.txt | 27-Jul-2024 06:41 | 878 | ||
buildsrc-summary.dcf | 27-Jul-2024 06:41 | 426 | ||
checksrc-out.txt | 27-Jul-2024 06:41 | 3.7K | ||
checksrc-summary.dcf | 27-Jul-2024 06:41 | 442 | ||
install-out.txt | 27-Jul-2024 06:41 | 1.0K | ||
install-summary.dcf | 27-Jul-2024 06:41 | 268 | ||