Name | Last modified | Size | Description | |
---|---|---|---|---|
Parent Directory | - | |||
checksrc-out.txt | 27-Jul-2024 06:38 | 4.0K | ||
buildbin-out.txt | 27-Jul-2024 06:38 | 1.4K | ||
install-out.txt | 27-Jul-2024 06:38 | 1.2K | ||
buildsrc-out.txt | 27-Jul-2024 06:38 | 1.0K | ||
buildbin-summary.dcf | 27-Jul-2024 06:38 | 504 | ||
checksrc-summary.dcf | 27-Jul-2024 06:38 | 446 | ||
buildsrc-summary.dcf | 27-Jul-2024 06:38 | 445 | ||
install-summary.dcf | 27-Jul-2024 06:38 | 265 | ||