Name | Last modified | Size | Description | |
---|---|---|---|---|
Parent Directory | - | |||
buildbin-out.txt | 24-Jul-2024 22:05 | 1.5K | ||
buildbin-summary.dcf | 24-Jul-2024 22:05 | 517 | ||
buildsrc-out.txt | 24-Jul-2024 22:05 | 1.0K | ||
buildsrc-summary.dcf | 24-Jul-2024 22:05 | 422 | ||
checksrc-out.txt | 24-Jul-2024 22:05 | 4.1K | ||
checksrc-summary.dcf | 24-Jul-2024 22:05 | 443 | ||
install-out.txt | 24-Jul-2024 22:05 | 1.3K | ||
install-summary.dcf | 24-Jul-2024 22:05 | 266 | ||