Name | Last modified | Size | Description | |
---|---|---|---|---|
Parent Directory | - | |||
checksrc-out.txt | 27-Jul-2024 06:41 | 4.1K | ||
buildbin-out.txt | 27-Jul-2024 06:41 | 1.5K | ||
install-out.txt | 27-Jul-2024 06:41 | 1.3K | ||
buildsrc-out.txt | 27-Jul-2024 06:41 | 1.0K | ||
buildbin-summary.dcf | 27-Jul-2024 06:41 | 516 | ||
checksrc-summary.dcf | 27-Jul-2024 06:41 | 443 | ||
buildsrc-summary.dcf | 27-Jul-2024 06:41 | 422 | ||
install-summary.dcf | 27-Jul-2024 06:41 | 265 | ||