Back to Multiple platform build/check report for BioC 3.17:   simplified   long
[A]BCDEFGHIJKLMNOPQRSTUVWXYZ

This page was generated on 2023-09-22 11:35:27 -0400 (Fri, 22 Sep 2023).

HostnameOSArch (*)R versionInstalled pkgs
nebbiolo1Linux (Ubuntu 22.04.2 LTS)x86_644.3.1 (2023-06-16) -- "Beagle Scouts" 4625
palomino3Windows Server 2022 Datacenterx644.3.1 (2023-06-16 ucrt) -- "Beagle Scouts" 4378
merida1macOS 12.6.4 Montereyx86_644.3.1 (2023-06-16) -- "Beagle Scouts" 4394
Click on any hostname to see more info about the system (e.g. compilers)      (*) as reported by 'uname -p', except on Windows and Mac OS X

Package 99/2230HostnameOS / ArchINSTALLBUILDCHECKBUILD BIN
ASpediaFI 1.14.0  (landing page)
Doyeong Yu
Snapshot Date: 2023-09-21 14:00:15 -0400 (Thu, 21 Sep 2023)
git_url: https://git.bioconductor.org/packages/ASpediaFI
git_branch: RELEASE_3_17
git_last_commit: 00e9ece
git_last_commit_date: 2023-04-25 11:13:24 -0400 (Tue, 25 Apr 2023)
nebbiolo1Linux (Ubuntu 22.04.2 LTS) / x86_64  ERROR    ERROR  skipped
palomino3Windows Server 2022 Datacenter / x64  ERROR    ERROR  skippedskipped
merida1macOS 12.6.4 Monterey / x86_64  ERROR    ERROR  skippedskipped

BUILD results for ASpediaFI on nebbiolo1


To the developers/maintainers of the ASpediaFI package:
- Allow up to 24 hours (and sometimes 48 hours) for your latest push to git@git.bioconductor.org:packages/ASpediaFI.git to reflect on this report. See Troubleshooting Build Report for more information.
- Use the following Renviron settings to reproduce errors and warnings.
- If 'R CMD check' started to fail recently on the Linux builder(s) over a missing dependency, add the missing dependency to 'Suggests:' in your DESCRIPTION file. See Renviron.bioc for more information.

raw results


Summary

Package: ASpediaFI
Version: 1.14.0
Command: /home/biocbuild/bbs-3.17-bioc/R/bin/R CMD build --keep-empty-dirs --no-resave-data ASpediaFI
StartedAt: 2023-09-21 15:51:29 -0400 (Thu, 21 Sep 2023)
EndedAt: 2023-09-21 15:51:30 -0400 (Thu, 21 Sep 2023)
EllapsedTime: 1.3 seconds
RetCode: 1
Status:   ERROR  
PackageFile: None
PackageFileSize: NA

Command output

##############################################################################
##############################################################################
###
### Running command:
###
###   /home/biocbuild/bbs-3.17-bioc/R/bin/R CMD build --keep-empty-dirs --no-resave-data ASpediaFI
###
##############################################################################
##############################################################################


* checking for file ‘ASpediaFI/DESCRIPTION’ ... OK
* preparing ‘ASpediaFI’:
* checking DESCRIPTION meta-information ... OK
* installing the package to build vignettes
      -----------------------------------
ERROR: dependency ‘mGSZ’ is not available for package ‘ASpediaFI’
* removing ‘/tmp/RtmpUbKIAi/Rinst11c605571e58cb/ASpediaFI’
      -----------------------------------
ERROR: package installation failed