Name | Last modified | Size | Description | |
---|---|---|---|---|
Parent Directory | - | |||
install-summary.dcf | 15-Jun-2024 03:38 | 265 | ||
checksrc-summary.dcf | 15-Jun-2024 03:38 | 441 | ||
buildsrc-summary.dcf | 15-Jun-2024 03:38 | 447 | ||
buildbin-summary.dcf | 15-Jun-2024 03:38 | 506 | ||
buildsrc-out.txt | 15-Jun-2024 03:38 | 865 | ||
install-out.txt | 15-Jun-2024 03:38 | 1.9K | ||
buildbin-out.txt | 15-Jun-2024 03:38 | 2.0K | ||
checksrc-out.txt | 15-Jun-2024 03:38 | 4.4K | ||