Name | Last modified | Size | Description | |
---|---|---|---|---|
Parent Directory | - | |||
install-summary.dcf | 27-Jul-2024 06:38 | 288 | ||
install-out.txt | 27-Jul-2024 06:38 | 1.0K | ||
checksrc-summary.dcf | 27-Jul-2024 06:38 | 487 | ||
checksrc-out.txt | 27-Jul-2024 06:38 | 6.0K | ||
buildsrc-summary.dcf | 27-Jul-2024 06:38 | 491 | ||
buildsrc-out.txt | 27-Jul-2024 06:38 | 949 | ||
buildbin-summary.dcf | 27-Jul-2024 06:38 | 575 | ||
buildbin-out.txt | 27-Jul-2024 06:38 | 1.2K | ||