Name | Last modified | Size | Description | |
---|---|---|---|---|
Parent Directory | - | |||
install-summary.dcf | 26-Jun-2024 06:41 | 289 | ||
install-out.txt | 26-Jun-2024 06:41 | 1.0K | ||
checksrc-summary.dcf | 26-Jun-2024 06:41 | 484 | ||
checksrc-out.txt | 26-Jun-2024 06:41 | 6.1K | ||
buildsrc-summary.dcf | 26-Jun-2024 06:41 | 457 | ||
buildsrc-out.txt | 26-Jun-2024 06:41 | 919 | ||
buildbin-summary.dcf | 26-Jun-2024 06:41 | 588 | ||
buildbin-out.txt | 26-Jun-2024 06:41 | 1.2K | ||