Name | Last modified | Size | Description | |
---|---|---|---|---|
Parent Directory | - | |||
buildbin-out.txt | 04-May-2024 00:39 | 1.2K | ||
buildbin-summary.dcf | 04-May-2024 00:39 | 588 | ||
buildsrc-out.txt | 04-May-2024 00:39 | 919 | ||
buildsrc-summary.dcf | 04-May-2024 00:39 | 457 | ||
checksrc-out.txt | 04-May-2024 00:39 | 6.1K | ||
checksrc-summary.dcf | 04-May-2024 00:39 | 484 | ||
install-out.txt | 04-May-2024 00:39 | 1.0K | ||
install-summary.dcf | 04-May-2024 00:39 | 289 | ||