Name | Last modified | Size | Description | |
---|---|---|---|---|
Parent Directory | - | |||
buildsrc-out.txt | 30-Mar-2024 00:35 | 789 | ||
buildsrc-summary.dcf | 30-Mar-2024 00:35 | 404 | ||
checksrc-out.txt | 30-Mar-2024 00:35 | 3.3K | ||
checksrc-summary.dcf | 30-Mar-2024 00:35 | 406 | ||
install-out.txt | 30-Mar-2024 00:35 | 960 | ||
install-summary.dcf | 30-Mar-2024 00:35 | 250 | ||