Name | Last modified | Size | Description | |
---|---|---|---|---|
Parent Directory | - | |||
checksrc-out.txt | 07-May-2024 00:40 | 3.1K | ||
checksrc-summary.dcf | 07-May-2024 00:40 | 435 | ||
install-out.txt | 10-May-2024 00:40 | 962 | ||
install-summary.dcf | 10-May-2024 00:40 | 261 | ||
buildsrc-out.txt | 10-May-2024 00:40 | 642 | ||
buildsrc-summary.dcf | 10-May-2024 00:40 | 343 | ||