Back to Multiple platform build/check report for BioC 3.12
[A]BCDEFGHIJKLMNOPQRSTUVWXYZ

Multiple platform build/check report for BioC 3.12

Results for ALPS

This page was generated on 2021-01-24 11:48:41 -0500 (Sun, 24 Jan 2021).

Package 47/1974HostnameOS / ArchINSTALLBUILDCHECKBUILD BIN
ALPS 1.4.0
Venu Thatikonda
Snapshot Date: 2021-01-23 14:40:16 -0500 (Sat, 23 Jan 2021)
URL: https://git.bioconductor.org/packages/ALPS
Branch: RELEASE_3_12
Last Commit: efa0189
Last Changed Date: 2020-10-27 11:50:35 -0500 (Tue, 27 Oct 2020)
malbec1 Linux (Ubuntu 18.04.5 LTS) / x86_64  OK  OK  OK UNNEEDED, same version exists in internal repository
nebbiolo1 Linux (Ubuntu 20.04.1 LTS) / x86_64  OK  OK  OK 
tokay1 Windows Server 2012 R2 Standard / x64  OK  OK  OK  OK UNNEEDED, same version exists in internal repository
merida1 macOS 10.14.6 Mojave / x86_64  ERROR  OK  ERROR  OK