Name | Last modified | Size | Description | |
---|---|---|---|---|
Parent Directory | - | |||
checksrc-out.txt | 19-Jun-2024 06:57 | 3.0K | ||
install-out.txt | 19-Jun-2024 06:57 | 961 | ||
buildsrc-out.txt | 19-Jun-2024 06:57 | 817 | ||
checksrc-summary.dcf | 19-Jun-2024 06:57 | 424 | ||
buildsrc-summary.dcf | 19-Jun-2024 06:57 | 424 | ||
install-summary.dcf | 19-Jun-2024 06:57 | 264 | ||