Back to Multiple platform build/check report for BioC 3.13
[A]BCDEFGHIJKLMNOPQRSTUVWXYZ

This page was generated on 2021-10-13 15:05:44 -0400 (Wed, 13 Oct 2021).

BUILD results for ADaCGH2 on machv2

To the developers/maintainers of the ADaCGH2 package:
- Please allow up to 24 hours (and sometimes 48 hours) for your latest push to git@git.bioconductor.org:packages/ADaCGH2.git to
reflect on this report. See How and When does the builder pull? When will my changes propagate? here for more information.
- Make sure to use the following settings in order to reproduce any error or warning you see on this page.

raw results

Package 15/2041HostnameOS / ArchINSTALLBUILDCHECKBUILD BIN
ADaCGH2 2.32.0  (landing page)
Ramon Diaz-Uriarte
Snapshot Date: 2021-10-12 04:50:13 -0400 (Tue, 12 Oct 2021)
git_url: https://git.bioconductor.org/packages/ADaCGH2
git_branch: RELEASE_3_13
git_last_commit: 43bdeb8
git_last_commit_date: 2021-05-19 11:46:43 -0400 (Wed, 19 May 2021)
nebbiolo1Linux (Ubuntu 20.04.2 LTS) / x86_64  OK    OK    OK  UNNEEDED, same version is already published
tokay2Windows Server 2012 R2 Standard / x64  OK    OK    OK    OK  UNNEEDED, same version is already published
machv2macOS 10.14.6 Mojave / x86_64  OK    OK    OK    OK  UNNEEDED, same version is already published

Summary

Package: ADaCGH2
Version: 2.32.0
Command: /Library/Frameworks/R.framework/Versions/Current/Resources/bin/R CMD build --keep-empty-dirs --no-resave-data ADaCGH2
StartedAt: 2021-10-12 10:34:01 -0400 (Tue, 12 Oct 2021)
EndedAt: 2021-10-12 10:36:17 -0400 (Tue, 12 Oct 2021)
EllapsedTime: 135.7 seconds
RetCode: 0
Status:   OK  
PackageFile: ADaCGH2_2.32.0.tar.gz
PackageFileSize: 1.029 MiB

Command output

##############################################################################
##############################################################################
###
### Running command:
###
###   /Library/Frameworks/R.framework/Versions/Current/Resources/bin/R CMD build --keep-empty-dirs --no-resave-data ADaCGH2
###
##############################################################################
##############################################################################


* checking for file ‘ADaCGH2/DESCRIPTION’ ... OK
* preparing ‘ADaCGH2’:
* checking DESCRIPTION meta-information ... OK
* cleaning src
* installing the package to build vignettes
* creating vignettes ... OK
* cleaning src
* checking for LF line-endings in source and make files and shell scripts
* checking for empty or unneeded directories
* looking to see if a ‘data/datalist’ file should be added
* building ‘ADaCGH2_2.32.0.tar.gz’